BEGIN:VCALENDAR
VERSION:2.0
PRODID:-//Evankelinen lähetysyhdistys ELY ry - ECPv6.15.18//NONSGML v1.0//EN
CALSCALE:GREGORIAN
METHOD:PUBLISH
X-WR-CALNAME:Evankelinen lähetysyhdistys ELY ry
X-ORIGINAL-URL:https://www.evankeliset.net
X-WR-CALDESC:Tapahtumat Evankelinen lähetysyhdistys ELY ry
REFRESH-INTERVAL;VALUE=DURATION:PT1H
X-Robots-Tag:noindex
X-PUBLISHED-TTL:PT1H
BEGIN:VTIMEZONE
TZID:Europe/Helsinki
BEGIN:DAYLIGHT
TZOFFSETFROM:+0200
TZOFFSETTO:+0300
TZNAME:EEST
DTSTART:20170326T010000
END:DAYLIGHT
BEGIN:STANDARD
TZOFFSETFROM:+0300
TZOFFSETTO:+0200
TZNAME:EET
DTSTART:20171029T010000
END:STANDARD
BEGIN:DAYLIGHT
TZOFFSETFROM:+0200
TZOFFSETTO:+0300
TZNAME:EEST
DTSTART:20180325T010000
END:DAYLIGHT
BEGIN:STANDARD
TZOFFSETFROM:+0300
TZOFFSETTO:+0200
TZNAME:EET
DTSTART:20181028T010000
END:STANDARD
BEGIN:DAYLIGHT
TZOFFSETFROM:+0200
TZOFFSETTO:+0300
TZNAME:EEST
DTSTART:20190331T010000
END:DAYLIGHT
BEGIN:STANDARD
TZOFFSETFROM:+0300
TZOFFSETTO:+0200
TZNAME:EET
DTSTART:20191027T010000
END:STANDARD
END:VTIMEZONE
BEGIN:VEVENT
DTSTART;TZID=Europe/Helsinki:20180421T110000
DTEND;TZID=Europe/Helsinki:20180422T140000
DTSTAMP:20260423T191957
CREATED:20180420T075050Z
LAST-MODIFIED:20180420T075050Z
UID:835-1524308400-1524405600@www.evankeliset.net
SUMMARY:Kiteen opisto\, Raamattukurssi
DESCRIPTION:
URL:https://www.evankeliset.net/tapahtuma/kiteen-opisto-raamattukurssi/
END:VEVENT
BEGIN:VEVENT
DTSTART;TZID=Europe/Helsinki:20180422T100000
DTEND;TZID=Europe/Helsinki:20180422T130000
DTSTAMP:20260423T191957
CREATED:20180308T062338Z
LAST-MODIFIED:20180308T062338Z
UID:424-1524391200-1524402000@www.evankeliset.net
SUMMARY:Sammonlahti\, Lappeenranta\, kirkkopyhä
DESCRIPTION:
URL:https://www.evankeliset.net/tapahtuma/kal-424/
END:VEVENT
BEGIN:VEVENT
DTSTART;TZID=Europe/Helsinki:20180422T100000
DTEND;TZID=Europe/Helsinki:20180422T150000
DTSTAMP:20260423T191957
CREATED:20180308T062338Z
LAST-MODIFIED:20180409T065320Z
UID:423-1524391200-1524409200@www.evankeliset.net
SUMMARY:Nurmo\, Elyn kirkkopyhä
DESCRIPTION:
URL:https://www.evankeliset.net/tapahtuma/kal-423/
END:VEVENT
BEGIN:VEVENT
DTSTART;TZID=Europe/Helsinki:20180422T130000
DTEND;TZID=Europe/Helsinki:20180422T150000
DTSTAMP:20260423T191957
CREATED:20180308T062338Z
LAST-MODIFIED:20180308T062338Z
UID:425-1524402000-1524409200@www.evankeliset.net
SUMMARY:Himanka\, seurat
DESCRIPTION:
URL:https://www.evankeliset.net/tapahtuma/kal-425/
END:VEVENT
BEGIN:VEVENT
DTSTART;TZID=Europe/Helsinki:20180422T150000
DTEND;TZID=Europe/Helsinki:20180422T170000
DTSTAMP:20260423T191957
CREATED:20180308T062338Z
LAST-MODIFIED:20180308T062338Z
UID:426-1524409200-1524416400@www.evankeliset.net
SUMMARY:Hamina\, Raamattuluento
DESCRIPTION:
URL:https://www.evankeliset.net/tapahtuma/kal-426/
END:VEVENT
END:VCALENDAR