BEGIN:VCALENDAR
VERSION:2.0
PRODID:-//Evankelinen lähetysyhdistys ELY ry - ECPv6.15.18//NONSGML v1.0//EN
CALSCALE:GREGORIAN
METHOD:PUBLISH
X-ORIGINAL-URL:https://www.evankeliset.net
X-WR-CALDESC:Tapahtumat Evankelinen lähetysyhdistys ELY ry
REFRESH-INTERVAL;VALUE=DURATION:PT1H
X-Robots-Tag:noindex
X-PUBLISHED-TTL:PT1H
BEGIN:VTIMEZONE
TZID:Europe/Helsinki
BEGIN:DAYLIGHT
TZOFFSETFROM:+0200
TZOFFSETTO:+0300
TZNAME:EEST
DTSTART:20170326T010000
END:DAYLIGHT
BEGIN:STANDARD
TZOFFSETFROM:+0300
TZOFFSETTO:+0200
TZNAME:EET
DTSTART:20171029T010000
END:STANDARD
BEGIN:DAYLIGHT
TZOFFSETFROM:+0200
TZOFFSETTO:+0300
TZNAME:EEST
DTSTART:20180325T010000
END:DAYLIGHT
BEGIN:STANDARD
TZOFFSETFROM:+0300
TZOFFSETTO:+0200
TZNAME:EET
DTSTART:20181028T010000
END:STANDARD
BEGIN:DAYLIGHT
TZOFFSETFROM:+0200
TZOFFSETTO:+0300
TZNAME:EEST
DTSTART:20190331T010000
END:DAYLIGHT
BEGIN:STANDARD
TZOFFSETFROM:+0300
TZOFFSETTO:+0200
TZNAME:EET
DTSTART:20191027T010000
END:STANDARD
END:VTIMEZONE
BEGIN:VEVENT
DTSTART;VALUE=DATE:20180503
DTEND;VALUE=DATE:20180507
DTSTAMP:20260423T174731
CREATED:20180420T080930Z
LAST-MODIFIED:20180420T080930Z
UID:845-1525305600-1525651199@www.evankeliset.net
SUMMARY:Ryhmämatka Viroon 3.-6.5.
DESCRIPTION:
URL:https://www.evankeliset.net/tapahtuma/ryhmamatka-viroon-3-6-5/
END:VEVENT
BEGIN:VEVENT
DTSTART;TZID=Europe/Helsinki:20180506T100000
DTEND;TZID=Europe/Helsinki:20180506T140000
DTSTAMP:20260423T174731
CREATED:20180308T062338Z
LAST-MODIFIED:20180423T075420Z
UID:436-1525600800-1525615200@www.evankeliset.net
SUMMARY:Kälviä\, Elyn kirkkopyhä
DESCRIPTION:
URL:https://www.evankeliset.net/tapahtuma/kal-436/
END:VEVENT
BEGIN:VEVENT
DTSTART;TZID=Europe/Helsinki:20180506T180000
DTEND;TZID=Europe/Helsinki:20180506T200000
DTSTAMP:20260423T174731
CREATED:20180403T090914Z
LAST-MODIFIED:20180403T090914Z
UID:629-1525629600-1525636800@www.evankeliset.net
SUMMARY:Kälviä\, Israel-ilta
DESCRIPTION:
URL:https://www.evankeliset.net/tapahtuma/kalvia-israel-ilta/
END:VEVENT
END:VCALENDAR