BEGIN:VCALENDAR
VERSION:2.0
PRODID:-//Evankelinen lähetysyhdistys ELY ry - ECPv6.15.18//NONSGML v1.0//EN
CALSCALE:GREGORIAN
METHOD:PUBLISH
X-ORIGINAL-URL:https://www.evankeliset.net
X-WR-CALDESC:Tapahtumat Evankelinen lähetysyhdistys ELY ry
REFRESH-INTERVAL;VALUE=DURATION:PT1H
X-Robots-Tag:noindex
X-PUBLISHED-TTL:PT1H
BEGIN:VTIMEZONE
TZID:Europe/Helsinki
BEGIN:DAYLIGHT
TZOFFSETFROM:+0200
TZOFFSETTO:+0300
TZNAME:EEST
DTSTART:20170326T010000
END:DAYLIGHT
BEGIN:STANDARD
TZOFFSETFROM:+0300
TZOFFSETTO:+0200
TZNAME:EET
DTSTART:20171029T010000
END:STANDARD
BEGIN:DAYLIGHT
TZOFFSETFROM:+0200
TZOFFSETTO:+0300
TZNAME:EEST
DTSTART:20180325T010000
END:DAYLIGHT
BEGIN:STANDARD
TZOFFSETFROM:+0300
TZOFFSETTO:+0200
TZNAME:EET
DTSTART:20181028T010000
END:STANDARD
BEGIN:DAYLIGHT
TZOFFSETFROM:+0200
TZOFFSETTO:+0300
TZNAME:EEST
DTSTART:20190331T010000
END:DAYLIGHT
BEGIN:STANDARD
TZOFFSETFROM:+0300
TZOFFSETTO:+0200
TZNAME:EET
DTSTART:20191027T010000
END:STANDARD
END:VTIMEZONE
BEGIN:VEVENT
DTSTART;TZID=Europe/Helsinki:20180909T100000
DTEND;TZID=Europe/Helsinki:20180909T140000
DTSTAMP:20260423T114349
CREATED:20180308T062338Z
LAST-MODIFIED:20180702T120905Z
UID:467-1536487200-1536501600@www.evankeliset.net
SUMMARY:Kauhava \,etelä-pohjalaanen kirkkopyhä "Korkiammas käres"
DESCRIPTION:
URL:https://www.evankeliset.net/tapahtuma/kal-467/
END:VEVENT
BEGIN:VEVENT
DTSTART;TZID=Europe/Helsinki:20180909T100000
DTEND;TZID=Europe/Helsinki:20180909T140000
DTSTAMP:20260423T114350
CREATED:20180308T062338Z
LAST-MODIFIED:20180821T045710Z
UID:468-1536487200-1536501600@www.evankeliset.net
SUMMARY:Virrat\, Elyn kirkkopyhä
DESCRIPTION:
URL:https://www.evankeliset.net/tapahtuma/kal-468/
END:VEVENT
BEGIN:VEVENT
DTSTART;TZID=Europe/Helsinki:20180909T100000
DTEND;TZID=Europe/Helsinki:20180909T140000
DTSTAMP:20260423T114350
CREATED:20180308T062338Z
LAST-MODIFIED:20180821T094228Z
UID:469-1536487200-1536501600@www.evankeliset.net
SUMMARY:Sulkava\, kirkkopyhä ja lähettäjätapaaminen
DESCRIPTION:
URL:https://www.evankeliset.net/tapahtuma/kal-469/
END:VEVENT
BEGIN:VEVENT
DTSTART;TZID=Europe/Helsinki:20180909T130000
DTEND;TZID=Europe/Helsinki:20180909T150000
DTSTAMP:20260423T114350
CREATED:20180821T045530Z
LAST-MODIFIED:20180821T045530Z
UID:1228-1536498000-1536505200@www.evankeliset.net
SUMMARY:Virrat\, Kurjenkylä\, Jumalanpalvelus
DESCRIPTION:
URL:https://www.evankeliset.net/tapahtuma/virrat-kurjenkyla-jumalanpalvelus/
END:VEVENT
BEGIN:VEVENT
DTSTART;TZID=Europe/Helsinki:20180909T170000
DTEND;TZID=Europe/Helsinki:20180909T190000
DTSTAMP:20260423T114350
CREATED:20180820T052119Z
LAST-MODIFIED:20180820T052119Z
UID:1216-1536512400-1536519600@www.evankeliset.net
SUMMARY:Tampere\, Lauluseurat
DESCRIPTION:
URL:https://www.evankeliset.net/tapahtuma/tampere-lauluseurat/
END:VEVENT
BEGIN:VEVENT
DTSTART;TZID=Europe/Helsinki:20180909T180000
DTEND;TZID=Europe/Helsinki:20180909T200000
DTSTAMP:20260423T114350
CREATED:20180308T062338Z
LAST-MODIFIED:20180820T050129Z
UID:470-1536516000-1536523200@www.evankeliset.net
SUMMARY:Riihimäki\, Elyn 10v-juhla ja Pertti Ruposen 70v-seurat
DESCRIPTION:
URL:https://www.evankeliset.net/tapahtuma/kal-470/
END:VEVENT
END:VCALENDAR