BEGIN:VCALENDAR
VERSION:2.0
PRODID:-//Evankelinen lähetysyhdistys ELY ry - ECPv6.15.18//NONSGML v1.0//EN
CALSCALE:GREGORIAN
METHOD:PUBLISH
X-ORIGINAL-URL:https://www.evankeliset.net
X-WR-CALDESC:Tapahtumat Evankelinen lähetysyhdistys ELY ry
REFRESH-INTERVAL;VALUE=DURATION:PT1H
X-Robots-Tag:noindex
X-PUBLISHED-TTL:PT1H
BEGIN:VTIMEZONE
TZID:Europe/Helsinki
BEGIN:DAYLIGHT
TZOFFSETFROM:+0200
TZOFFSETTO:+0300
TZNAME:EEST
DTSTART:20170326T010000
END:DAYLIGHT
BEGIN:STANDARD
TZOFFSETFROM:+0300
TZOFFSETTO:+0200
TZNAME:EET
DTSTART:20171029T010000
END:STANDARD
BEGIN:DAYLIGHT
TZOFFSETFROM:+0200
TZOFFSETTO:+0300
TZNAME:EEST
DTSTART:20180325T010000
END:DAYLIGHT
BEGIN:STANDARD
TZOFFSETFROM:+0300
TZOFFSETTO:+0200
TZNAME:EET
DTSTART:20181028T010000
END:STANDARD
BEGIN:DAYLIGHT
TZOFFSETFROM:+0200
TZOFFSETTO:+0300
TZNAME:EEST
DTSTART:20190331T010000
END:DAYLIGHT
BEGIN:STANDARD
TZOFFSETFROM:+0300
TZOFFSETTO:+0200
TZNAME:EET
DTSTART:20191027T010000
END:STANDARD
END:VTIMEZONE
BEGIN:VEVENT
DTSTART;TZID=Europe/Helsinki:20180913T100000
DTEND;TZID=Europe/Helsinki:20180913T150000
DTSTAMP:20260423T114350
CREATED:20180308T062338Z
LAST-MODIFIED:20180308T062338Z
UID:471-1536832800-1536850800@www.evankeliset.net
SUMMARY:Kauhajoki\, Siionin Kannel seurat
DESCRIPTION:
URL:https://www.evankeliset.net/tapahtuma/kal-471/
END:VEVENT
BEGIN:VEVENT
DTSTART;TZID=Europe/Helsinki:20180913T180000
DTEND;TZID=Europe/Helsinki:20180913T200000
DTSTAMP:20260423T114350
CREATED:20180704T091616Z
LAST-MODIFIED:20180704T091616Z
UID:1143-1536861600-1536868800@www.evankeliset.net
SUMMARY:Kannus\, Hyvässä seurassa -ilta
DESCRIPTION:
URL:https://www.evankeliset.net/tapahtuma/kannus-hyvassa-seurassa-ilta/
END:VEVENT
END:VCALENDAR