BEGIN:VCALENDAR
VERSION:2.0
PRODID:-//Evankelinen lähetysyhdistys ELY ry - ECPv6.15.18//NONSGML v1.0//EN
CALSCALE:GREGORIAN
METHOD:PUBLISH
X-ORIGINAL-URL:https://www.evankeliset.net
X-WR-CALDESC:Tapahtumat Evankelinen lähetysyhdistys ELY ry
REFRESH-INTERVAL;VALUE=DURATION:PT1H
X-Robots-Tag:noindex
X-PUBLISHED-TTL:PT1H
BEGIN:VTIMEZONE
TZID:Europe/Helsinki
BEGIN:DAYLIGHT
TZOFFSETFROM:+0200
TZOFFSETTO:+0300
TZNAME:EEST
DTSTART:20170326T010000
END:DAYLIGHT
BEGIN:STANDARD
TZOFFSETFROM:+0300
TZOFFSETTO:+0200
TZNAME:EET
DTSTART:20171029T010000
END:STANDARD
BEGIN:DAYLIGHT
TZOFFSETFROM:+0200
TZOFFSETTO:+0300
TZNAME:EEST
DTSTART:20180325T010000
END:DAYLIGHT
BEGIN:STANDARD
TZOFFSETFROM:+0300
TZOFFSETTO:+0200
TZNAME:EET
DTSTART:20181028T010000
END:STANDARD
BEGIN:DAYLIGHT
TZOFFSETFROM:+0200
TZOFFSETTO:+0300
TZNAME:EEST
DTSTART:20190331T010000
END:DAYLIGHT
BEGIN:STANDARD
TZOFFSETFROM:+0300
TZOFFSETTO:+0200
TZNAME:EET
DTSTART:20191027T010000
END:STANDARD
END:VTIMEZONE
BEGIN:VEVENT
DTSTART;TZID=Europe/Helsinki:20181011T110000
DTEND;TZID=Europe/Helsinki:20181011T130000
DTSTAMP:20260421T135557
CREATED:20180618T051749Z
LAST-MODIFIED:20180618T051749Z
UID:1026-1539255600-1539262800@www.evankeliset.net
SUMMARY:Salo\, Pastanttipuuro-päivä
DESCRIPTION:
URL:https://www.evankeliset.net/tapahtuma/salo-pastanttipuuro-paiva/
END:VEVENT
BEGIN:VEVENT
DTSTART;TZID=Europe/Helsinki:20181011T180000
DTEND;TZID=Europe/Helsinki:20181011T200000
DTSTAMP:20260421T135557
CREATED:20180926T122143Z
LAST-MODIFIED:20180926T122143Z
UID:1468-1539280800-1539288000@www.evankeliset.net
SUMMARY:Savonlinna\, Israel-rukousilta
DESCRIPTION:
URL:https://www.evankeliset.net/tapahtuma/savonlinna-israel-rukousilta-2/
END:VEVENT
END:VCALENDAR