BEGIN:VCALENDAR
VERSION:2.0
PRODID:-//Evankelinen lähetysyhdistys ELY ry - ECPv6.15.18//NONSGML v1.0//EN
CALSCALE:GREGORIAN
METHOD:PUBLISH
X-WR-CALNAME:Evankelinen lähetysyhdistys ELY ry
X-ORIGINAL-URL:https://www.evankeliset.net
X-WR-CALDESC:Tapahtumat Evankelinen lähetysyhdistys ELY ry
REFRESH-INTERVAL;VALUE=DURATION:PT1H
X-Robots-Tag:noindex
X-PUBLISHED-TTL:PT1H
BEGIN:VTIMEZONE
TZID:Europe/Helsinki
BEGIN:DAYLIGHT
TZOFFSETFROM:+0200
TZOFFSETTO:+0300
TZNAME:EEST
DTSTART:20170326T010000
END:DAYLIGHT
BEGIN:STANDARD
TZOFFSETFROM:+0300
TZOFFSETTO:+0200
TZNAME:EET
DTSTART:20171029T010000
END:STANDARD
BEGIN:DAYLIGHT
TZOFFSETFROM:+0200
TZOFFSETTO:+0300
TZNAME:EEST
DTSTART:20180325T010000
END:DAYLIGHT
BEGIN:STANDARD
TZOFFSETFROM:+0300
TZOFFSETTO:+0200
TZNAME:EET
DTSTART:20181028T010000
END:STANDARD
BEGIN:DAYLIGHT
TZOFFSETFROM:+0200
TZOFFSETTO:+0300
TZNAME:EEST
DTSTART:20190331T010000
END:DAYLIGHT
BEGIN:STANDARD
TZOFFSETFROM:+0300
TZOFFSETTO:+0200
TZNAME:EET
DTSTART:20191027T010000
END:STANDARD
END:VTIMEZONE
BEGIN:VEVENT
DTSTART;TZID=Europe/Helsinki:20181014T100000
DTEND;TZID=Europe/Helsinki:20181014T130000
DTSTAMP:20260421T135303
CREATED:20180821T050425Z
LAST-MODIFIED:20180821T050425Z
UID:1235-1539511200-1539522000@www.evankeliset.net
SUMMARY:Nurmijärvi\, Elyn kirkkopyhä
DESCRIPTION:
URL:https://www.evankeliset.net/tapahtuma/nurmijarvi-elyn-kirkkopyha/
END:VEVENT
BEGIN:VEVENT
DTSTART;TZID=Europe/Helsinki:20181014T100000
DTEND;TZID=Europe/Helsinki:20181014T140000
DTSTAMP:20260421T135303
CREATED:20180308T062338Z
LAST-MODIFIED:20180702T125611Z
UID:480-1539511200-1539525600@www.evankeliset.net
SUMMARY:Alavus\, Siionin Kannel -messu
DESCRIPTION:
URL:https://www.evankeliset.net/tapahtuma/kal-480/
END:VEVENT
BEGIN:VEVENT
DTSTART;TZID=Europe/Helsinki:20181014T100000
DTEND;TZID=Europe/Helsinki:20181014T140000
DTSTAMP:20260421T135303
CREATED:20181004T052046Z
LAST-MODIFIED:20181004T052046Z
UID:1521-1539511200-1539525600@www.evankeliset.net
SUMMARY:Mäntyharju\, Elyn kirkkopyhä
DESCRIPTION:
URL:https://www.evankeliset.net/tapahtuma/mantyharju-elyn-kirkkopyha/
END:VEVENT
BEGIN:VEVENT
DTSTART;TZID=Europe/Helsinki:20181014T110000
DTEND;TZID=Europe/Helsinki:20181014T130000
DTSTAMP:20260421T135303
CREATED:20180614T074055Z
LAST-MODIFIED:20181005T075923Z
UID:999-1539514800-1539522000@www.evankeliset.net
SUMMARY:Helsinki\, Vuosaari\, ELYn kirkkopyhä
DESCRIPTION:
URL:https://www.evankeliset.net/tapahtuma/helsinki-vuosaari-elyn-kirkkopyha/
END:VEVENT
END:VCALENDAR