BEGIN:VCALENDAR
VERSION:2.0
PRODID:-//Evankelinen lähetysyhdistys ELY ry - ECPv6.15.18//NONSGML v1.0//EN
CALSCALE:GREGORIAN
METHOD:PUBLISH
X-WR-CALNAME:Evankelinen lähetysyhdistys ELY ry
X-ORIGINAL-URL:https://www.evankeliset.net
X-WR-CALDESC:Tapahtumat Evankelinen lähetysyhdistys ELY ry
REFRESH-INTERVAL;VALUE=DURATION:PT1H
X-Robots-Tag:noindex
X-PUBLISHED-TTL:PT1H
BEGIN:VTIMEZONE
TZID:Europe/Helsinki
BEGIN:DAYLIGHT
TZOFFSETFROM:+0200
TZOFFSETTO:+0300
TZNAME:EEST
DTSTART:20170326T010000
END:DAYLIGHT
BEGIN:STANDARD
TZOFFSETFROM:+0300
TZOFFSETTO:+0200
TZNAME:EET
DTSTART:20171029T010000
END:STANDARD
BEGIN:DAYLIGHT
TZOFFSETFROM:+0200
TZOFFSETTO:+0300
TZNAME:EEST
DTSTART:20180325T010000
END:DAYLIGHT
BEGIN:STANDARD
TZOFFSETFROM:+0300
TZOFFSETTO:+0200
TZNAME:EET
DTSTART:20181028T010000
END:STANDARD
BEGIN:DAYLIGHT
TZOFFSETFROM:+0200
TZOFFSETTO:+0300
TZNAME:EEST
DTSTART:20190331T010000
END:DAYLIGHT
BEGIN:STANDARD
TZOFFSETFROM:+0300
TZOFFSETTO:+0200
TZNAME:EET
DTSTART:20191027T010000
END:STANDARD
END:VTIMEZONE
BEGIN:VEVENT
DTSTART;TZID=Europe/Helsinki:20181029T130000
DTEND;TZID=Europe/Helsinki:20181029T150000
DTSTAMP:20260421T121803
CREATED:20180411T051431Z
LAST-MODIFIED:20180411T051431Z
UID:739-1540818000-1540825200@www.evankeliset.net
SUMMARY:Kurikka\, Siionin Kannel seurat
DESCRIPTION:
URL:https://www.evankeliset.net/tapahtuma/kurikka-siionin-kannel-seurat-5/
END:VEVENT
BEGIN:VEVENT
DTSTART;TZID=Europe/Helsinki:20181029T130000
DTEND;TZID=Europe/Helsinki:20181029T150000
DTSTAMP:20260421T121803
CREATED:20181004T054957Z
LAST-MODIFIED:20181004T054957Z
UID:1541-1540818000-1540825200@www.evankeliset.net
SUMMARY:Kuhmo\, Siionin Kanteleen -seurat
DESCRIPTION:
URL:https://www.evankeliset.net/tapahtuma/kuhmo-siionin-kanteleen-seurat/
END:VEVENT
BEGIN:VEVENT
DTSTART;TZID=Europe/Helsinki:20181029T180000
DTEND;TZID=Europe/Helsinki:20181029T200000
DTSTAMP:20260421T121803
CREATED:20180823T095312Z
LAST-MODIFIED:20180823T095312Z
UID:1268-1540836000-1540843200@www.evankeliset.net
SUMMARY:Ylistaro\, Minä uskon? Raamattuluentosarja
DESCRIPTION:
URL:https://www.evankeliset.net/tapahtuma/ylistaro-mina-uskon-raamattuluentosarja-2/
END:VEVENT
BEGIN:VEVENT
DTSTART;TZID=Europe/Helsinki:20181029T183000
DTEND;TZID=Europe/Helsinki:20181029T203000
DTSTAMP:20260421T121803
CREATED:20181004T055147Z
LAST-MODIFIED:20181004T055147Z
UID:1543-1540837800-1540845000@www.evankeliset.net
SUMMARY:Nurmes\, Lähetysilta
DESCRIPTION:
URL:https://www.evankeliset.net/tapahtuma/nurmes-lahetysilta/
END:VEVENT
END:VCALENDAR