BEGIN:VCALENDAR
VERSION:2.0
PRODID:-//Evankelinen lähetysyhdistys ELY ry - ECPv6.15.18//NONSGML v1.0//EN
CALSCALE:GREGORIAN
METHOD:PUBLISH
X-WR-CALNAME:Evankelinen lähetysyhdistys ELY ry
X-ORIGINAL-URL:https://www.evankeliset.net
X-WR-CALDESC:Tapahtumat Evankelinen lähetysyhdistys ELY ry
REFRESH-INTERVAL;VALUE=DURATION:PT1H
X-Robots-Tag:noindex
X-PUBLISHED-TTL:PT1H
BEGIN:VTIMEZONE
TZID:Europe/Helsinki
BEGIN:DAYLIGHT
TZOFFSETFROM:+0200
TZOFFSETTO:+0300
TZNAME:EEST
DTSTART:20170326T010000
END:DAYLIGHT
BEGIN:STANDARD
TZOFFSETFROM:+0300
TZOFFSETTO:+0200
TZNAME:EET
DTSTART:20171029T010000
END:STANDARD
BEGIN:DAYLIGHT
TZOFFSETFROM:+0200
TZOFFSETTO:+0300
TZNAME:EEST
DTSTART:20180325T010000
END:DAYLIGHT
BEGIN:STANDARD
TZOFFSETFROM:+0300
TZOFFSETTO:+0200
TZNAME:EET
DTSTART:20181028T010000
END:STANDARD
BEGIN:DAYLIGHT
TZOFFSETFROM:+0200
TZOFFSETTO:+0300
TZNAME:EEST
DTSTART:20190331T010000
END:DAYLIGHT
BEGIN:STANDARD
TZOFFSETFROM:+0300
TZOFFSETTO:+0200
TZNAME:EET
DTSTART:20191027T010000
END:STANDARD
END:VTIMEZONE
BEGIN:VEVENT
DTSTART;TZID=Europe/Helsinki:20181125T100000
DTEND;TZID=Europe/Helsinki:20181125T140000
DTSTAMP:20260421T121815
CREATED:20180717T040808Z
LAST-MODIFIED:20181004T053331Z
UID:1174-1543140000-1543154400@www.evankeliset.net
SUMMARY:Forssa\, Elyn kirkkopyhä
DESCRIPTION:
URL:https://www.evankeliset.net/tapahtuma/forssa-elyn-kirkkopyha/
END:VEVENT
BEGIN:VEVENT
DTSTART;TZID=Europe/Helsinki:20181125T130000
DTEND;TZID=Europe/Helsinki:20181125T150000
DTSTAMP:20260421T121815
CREATED:20180308T062338Z
LAST-MODIFIED:20181009T081636Z
UID:488-1543150800-1543158000@www.evankeliset.net
SUMMARY:Kauhajoki\, syntymäpäiväseurat
DESCRIPTION:
URL:https://www.evankeliset.net/tapahtuma/kal-488/
END:VEVENT
BEGIN:VEVENT
DTSTART;TZID=Europe/Helsinki:20181125T170000
DTEND;TZID=Europe/Helsinki:20181125T190000
DTSTAMP:20260421T121815
CREATED:20180614T075317Z
LAST-MODIFIED:20180614T075317Z
UID:1014-1543165200-1543172400@www.evankeliset.net
SUMMARY:Laukaa\, Israel-ilta
DESCRIPTION:
URL:https://www.evankeliset.net/tapahtuma/laukaa-israel-ilta-2/
END:VEVENT
BEGIN:VEVENT
DTSTART;TZID=Europe/Helsinki:20181125T170000
DTEND;TZID=Europe/Helsinki:20181125T190000
DTSTAMP:20260421T121815
CREATED:20181004T051551Z
LAST-MODIFIED:20181004T051551Z
UID:1519-1543165200-1543172400@www.evankeliset.net
SUMMARY:Helsinki\, Puistola\, Valon messu
DESCRIPTION:
URL:https://www.evankeliset.net/tapahtuma/helsinki-puistola-valon-messu/
END:VEVENT
BEGIN:VEVENT
DTSTART;TZID=Europe/Helsinki:20181125T180000
DTEND;TZID=Europe/Helsinki:20181125T180000
DTSTAMP:20260421T121815
CREATED:20180411T054146Z
LAST-MODIFIED:20180806T070433Z
UID:755-1543168800-1543168800@www.evankeliset.net
SUMMARY:Jalasjärvi\, Minä uskon? Raamattuluento
DESCRIPTION:
URL:https://www.evankeliset.net/tapahtuma/jalasjarvi-mina-uskon-raamattuluento-4/
END:VEVENT
END:VCALENDAR