BEGIN:VCALENDAR
VERSION:2.0
PRODID:-//Evankelinen lähetysyhdistys ELY ry - ECPv6.15.18//NONSGML v1.0//EN
CALSCALE:GREGORIAN
METHOD:PUBLISH
X-WR-CALNAME:Evankelinen lähetysyhdistys ELY ry
X-ORIGINAL-URL:https://www.evankeliset.net
X-WR-CALDESC:Tapahtumat Evankelinen lähetysyhdistys ELY ry
REFRESH-INTERVAL;VALUE=DURATION:PT1H
X-Robots-Tag:noindex
X-PUBLISHED-TTL:PT1H
BEGIN:VTIMEZONE
TZID:Europe/Helsinki
BEGIN:DAYLIGHT
TZOFFSETFROM:+0200
TZOFFSETTO:+0300
TZNAME:EEST
DTSTART:20170326T010000
END:DAYLIGHT
BEGIN:STANDARD
TZOFFSETFROM:+0300
TZOFFSETTO:+0200
TZNAME:EET
DTSTART:20171029T010000
END:STANDARD
BEGIN:DAYLIGHT
TZOFFSETFROM:+0200
TZOFFSETTO:+0300
TZNAME:EEST
DTSTART:20180325T010000
END:DAYLIGHT
BEGIN:STANDARD
TZOFFSETFROM:+0300
TZOFFSETTO:+0200
TZNAME:EET
DTSTART:20181028T010000
END:STANDARD
BEGIN:DAYLIGHT
TZOFFSETFROM:+0200
TZOFFSETTO:+0300
TZNAME:EEST
DTSTART:20190331T010000
END:DAYLIGHT
BEGIN:STANDARD
TZOFFSETFROM:+0300
TZOFFSETTO:+0200
TZNAME:EET
DTSTART:20191027T010000
END:STANDARD
END:VTIMEZONE
BEGIN:VEVENT
DTSTART;TZID=Europe/Helsinki:20181204T120000
DTEND;TZID=Europe/Helsinki:20181204T150000
DTSTAMP:20260421T135126
CREATED:20180928T111723Z
LAST-MODIFIED:20181003T091043Z
UID:1485-1543924800-1543935600@www.evankeliset.net
SUMMARY:Himanka\, joululauluseurat
DESCRIPTION:
URL:https://www.evankeliset.net/tapahtuma/himanka-joululauluseurat/
END:VEVENT
BEGIN:VEVENT
DTSTART;TZID=Europe/Helsinki:20181204T130000
DTEND;TZID=Europe/Helsinki:20181204T150000
DTSTAMP:20260421T135126
CREATED:20180829T051524Z
LAST-MODIFIED:20181119T112328Z
UID:1302-1543928400-1543935600@www.evankeliset.net
SUMMARY:Keuruu\, Joululauluseurat
DESCRIPTION:
URL:https://www.evankeliset.net/tapahtuma/keuruu-joululauluseurat/
END:VEVENT
BEGIN:VEVENT
DTSTART;TZID=Europe/Helsinki:20181204T180000
DTEND;TZID=Europe/Helsinki:20181204T200000
DTSTAMP:20260421T135126
CREATED:20180411T054521Z
LAST-MODIFIED:20180905T105058Z
UID:758-1543946400-1543953600@www.evankeliset.net
SUMMARY:Jalasjärvi\, Joululauluseurat (ELY ja HY)
DESCRIPTION:
URL:https://www.evankeliset.net/tapahtuma/jalasjarvi-joululauluseurat-ely-ja-hy/
END:VEVENT
BEGIN:VEVENT
DTSTART;TZID=Europe/Helsinki:20181204T180000
DTEND;TZID=Europe/Helsinki:20181204T200000
DTSTAMP:20260421T135126
CREATED:20180820T051545Z
LAST-MODIFIED:20180820T051545Z
UID:1214-1543946400-1543953600@www.evankeliset.net
SUMMARY:Riihimäki\, Siionin Kannel -seurat
DESCRIPTION:
URL:https://www.evankeliset.net/tapahtuma/riihimaki-siionin-kannel-seurat-2/
END:VEVENT
END:VCALENDAR