BEGIN:VCALENDAR
VERSION:2.0
PRODID:-//Evankelinen lähetysyhdistys ELY ry - ECPv6.15.18//NONSGML v1.0//EN
CALSCALE:GREGORIAN
METHOD:PUBLISH
X-WR-CALNAME:Evankelinen lähetysyhdistys ELY ry
X-ORIGINAL-URL:https://www.evankeliset.net
X-WR-CALDESC:Tapahtumat Evankelinen lähetysyhdistys ELY ry
REFRESH-INTERVAL;VALUE=DURATION:PT1H
X-Robots-Tag:noindex
X-PUBLISHED-TTL:PT1H
BEGIN:VTIMEZONE
TZID:Europe/Helsinki
BEGIN:DAYLIGHT
TZOFFSETFROM:+0200
TZOFFSETTO:+0300
TZNAME:EEST
DTSTART:20180325T010000
END:DAYLIGHT
BEGIN:STANDARD
TZOFFSETFROM:+0300
TZOFFSETTO:+0200
TZNAME:EET
DTSTART:20181028T010000
END:STANDARD
BEGIN:DAYLIGHT
TZOFFSETFROM:+0200
TZOFFSETTO:+0300
TZNAME:EEST
DTSTART:20190331T010000
END:DAYLIGHT
BEGIN:STANDARD
TZOFFSETFROM:+0300
TZOFFSETTO:+0200
TZNAME:EET
DTSTART:20191027T010000
END:STANDARD
BEGIN:DAYLIGHT
TZOFFSETFROM:+0200
TZOFFSETTO:+0300
TZNAME:EEST
DTSTART:20200329T010000
END:DAYLIGHT
BEGIN:STANDARD
TZOFFSETFROM:+0300
TZOFFSETTO:+0200
TZNAME:EET
DTSTART:20201025T010000
END:STANDARD
END:VTIMEZONE
BEGIN:VEVENT
DTSTART;TZID=Europe/Helsinki:20190113T100000
DTEND;TZID=Europe/Helsinki:20190113T110000
DTSTAMP:20260423T114148
CREATED:20181010T072811Z
LAST-MODIFIED:20190103T083417Z
UID:1561-1547373600-1547377200@www.evankeliset.net
SUMMARY:Alahärmä\, kirkkopyhä ja raamattuluento
DESCRIPTION:
URL:https://www.evankeliset.net/tapahtuma/alaharma-kirkkopyha/
END:VEVENT
BEGIN:VEVENT
DTSTART;TZID=Europe/Helsinki:20190113T100000
DTEND;TZID=Europe/Helsinki:20190113T150000
DTSTAMP:20260423T114148
CREATED:20180418T052508Z
LAST-MODIFIED:20181119T112911Z
UID:822-1547373600-1547391600@www.evankeliset.net
SUMMARY:Ilmajoki\, ELYn kirkkopyhä ja Raamattuluento
DESCRIPTION:
URL:https://www.evankeliset.net/tapahtuma/ilmajoki-elyn-kirkkopyha/
END:VEVENT
BEGIN:VEVENT
DTSTART;TZID=Europe/Helsinki:20190113T100000
DTEND;TZID=Europe/Helsinki:20190113T150000
DTSTAMP:20260423T114148
CREATED:20181022T053652Z
LAST-MODIFIED:20181024T043150Z
UID:1693-1547373600-1547391600@www.evankeliset.net
SUMMARY:Nurmes\, Elyn kirkkopyhä
DESCRIPTION:
URL:https://www.evankeliset.net/tapahtuma/nurmes-elyn-kirkkopyha/
END:VEVENT
BEGIN:VEVENT
DTSTART;TZID=Europe/Helsinki:20190113T110000
DTEND;TZID=Europe/Helsinki:20190113T110000
DTSTAMP:20260423T114148
CREATED:20190110T120745Z
LAST-MODIFIED:20190110T120745Z
UID:1932-1547377200-1547377200@www.evankeliset.net
SUMMARY:Lappeenranta\, Metodistiseurakunta
DESCRIPTION:
URL:https://www.evankeliset.net/tapahtuma/lappeenranta-metodistiseurakunta/
END:VEVENT
BEGIN:VEVENT
DTSTART;TZID=Europe/Helsinki:20190113T123000
DTEND;TZID=Europe/Helsinki:20190113T140000
DTSTAMP:20260423T114148
CREATED:20180418T052701Z
LAST-MODIFIED:20180418T052701Z
UID:824-1547382600-1547388000@www.evankeliset.net
SUMMARY:Imajoki\, Minä uskon? Raamattuluento
DESCRIPTION:
URL:https://www.evankeliset.net/tapahtuma/imajoki-mina-uskon-raamattuluento/
END:VEVENT
END:VCALENDAR