BEGIN:VCALENDAR
VERSION:2.0
PRODID:-//Evankelinen lähetysyhdistys ELY ry - ECPv6.15.18//NONSGML v1.0//EN
CALSCALE:GREGORIAN
METHOD:PUBLISH
X-WR-CALNAME:Evankelinen lähetysyhdistys ELY ry
X-ORIGINAL-URL:https://www.evankeliset.net
X-WR-CALDESC:Tapahtumat Evankelinen lähetysyhdistys ELY ry
REFRESH-INTERVAL;VALUE=DURATION:PT1H
X-Robots-Tag:noindex
X-PUBLISHED-TTL:PT1H
BEGIN:VTIMEZONE
TZID:Europe/Helsinki
BEGIN:DAYLIGHT
TZOFFSETFROM:+0200
TZOFFSETTO:+0300
TZNAME:EEST
DTSTART:20180325T010000
END:DAYLIGHT
BEGIN:STANDARD
TZOFFSETFROM:+0300
TZOFFSETTO:+0200
TZNAME:EET
DTSTART:20181028T010000
END:STANDARD
BEGIN:DAYLIGHT
TZOFFSETFROM:+0200
TZOFFSETTO:+0300
TZNAME:EEST
DTSTART:20190331T010000
END:DAYLIGHT
BEGIN:STANDARD
TZOFFSETFROM:+0300
TZOFFSETTO:+0200
TZNAME:EET
DTSTART:20191027T010000
END:STANDARD
BEGIN:DAYLIGHT
TZOFFSETFROM:+0200
TZOFFSETTO:+0300
TZNAME:EEST
DTSTART:20200329T010000
END:DAYLIGHT
BEGIN:STANDARD
TZOFFSETFROM:+0300
TZOFFSETTO:+0200
TZNAME:EET
DTSTART:20201025T010000
END:STANDARD
END:VTIMEZONE
BEGIN:VEVENT
DTSTART;TZID=Europe/Helsinki:20190224T080000
DTEND;TZID=Europe/Helsinki:20190224T170000
DTSTAMP:20260423T125914
CREATED:20181220T141908Z
LAST-MODIFIED:20181220T142040Z
UID:1892-1550995200-1551027600@www.evankeliset.net
SUMMARY:Urjala\, kirkkopyhä
DESCRIPTION:
URL:https://www.evankeliset.net/tapahtuma/kirkkopyha/
END:VEVENT
BEGIN:VEVENT
DTSTART;TZID=Europe/Helsinki:20190224T100000
DTEND;TZID=Europe/Helsinki:20190224T140000
DTSTAMP:20260423T125914
CREATED:20190124T125634Z
LAST-MODIFIED:20190124T125634Z
UID:2123-1551002400-1551016800@www.evankeliset.net
SUMMARY:Hyvinkää\, Messu ja Siionin Kannel -seurat
DESCRIPTION:
URL:https://www.evankeliset.net/tapahtuma/hyvinkaa-messu-ja-siionin-kannel-seurat-2/
END:VEVENT
BEGIN:VEVENT
DTSTART;TZID=Europe/Helsinki:20190224T160000
DTEND;TZID=Europe/Helsinki:20190224T180000
DTSTAMP:20260423T125914
CREATED:20190110T123006Z
LAST-MODIFIED:20190110T123006Z
UID:1966-1551024000-1551031200@www.evankeliset.net
SUMMARY:Helsinki\, Pihlajanmäen kirkko\, kirkkopyhä
DESCRIPTION:
URL:https://www.evankeliset.net/tapahtuma/helsinki-pihlajanmaen-kirkko-kirkkopyha/
END:VEVENT
BEGIN:VEVENT
DTSTART;TZID=Europe/Helsinki:20190224T180000
DTEND;TZID=Europe/Helsinki:20190224T200000
DTSTAMP:20260423T125914
CREATED:20180413T074327Z
LAST-MODIFIED:20181010T080824Z
UID:784-1551031200-1551038400@www.evankeliset.net
SUMMARY:Kauhajoki\, Minä uskon? Raamattuluento
DESCRIPTION:
URL:https://www.evankeliset.net/tapahtuma/kauhajoki-mina-uskon-raamattuluento/
END:VEVENT
END:VCALENDAR