BEGIN:VCALENDAR
VERSION:2.0
PRODID:-//Evankelinen lähetysyhdistys ELY ry - ECPv6.15.18//NONSGML v1.0//EN
CALSCALE:GREGORIAN
METHOD:PUBLISH
X-ORIGINAL-URL:https://www.evankeliset.net
X-WR-CALDESC:Tapahtumat Evankelinen lähetysyhdistys ELY ry
REFRESH-INTERVAL;VALUE=DURATION:PT1H
X-Robots-Tag:noindex
X-PUBLISHED-TTL:PT1H
BEGIN:VTIMEZONE
TZID:Europe/Helsinki
BEGIN:DAYLIGHT
TZOFFSETFROM:+0200
TZOFFSETTO:+0300
TZNAME:EEST
DTSTART:20180325T010000
END:DAYLIGHT
BEGIN:STANDARD
TZOFFSETFROM:+0300
TZOFFSETTO:+0200
TZNAME:EET
DTSTART:20181028T010000
END:STANDARD
BEGIN:DAYLIGHT
TZOFFSETFROM:+0200
TZOFFSETTO:+0300
TZNAME:EEST
DTSTART:20190331T010000
END:DAYLIGHT
BEGIN:STANDARD
TZOFFSETFROM:+0300
TZOFFSETTO:+0200
TZNAME:EET
DTSTART:20191027T010000
END:STANDARD
BEGIN:DAYLIGHT
TZOFFSETFROM:+0200
TZOFFSETTO:+0300
TZNAME:EEST
DTSTART:20200329T010000
END:DAYLIGHT
BEGIN:STANDARD
TZOFFSETFROM:+0300
TZOFFSETTO:+0200
TZNAME:EET
DTSTART:20201025T010000
END:STANDARD
END:VTIMEZONE
BEGIN:VEVENT
DTSTART;TZID=Europe/Helsinki:20190322T170000
DTEND;TZID=Europe/Helsinki:20190324T143000
DTSTAMP:20260423T144021
CREATED:20190131T124747Z
LAST-MODIFIED:20190131T124747Z
UID:2157-1553274000-1553437800@www.evankeliset.net
SUMMARY:Ryttylä\, Idäntyön päivät
DESCRIPTION:
URL:https://www.evankeliset.net/tapahtuma/ryttyla-idantyon-paivat/
END:VEVENT
BEGIN:VEVENT
DTSTART;TZID=Europe/Helsinki:20190324T100000
DTEND;TZID=Europe/Helsinki:20190324T113000
DTSTAMP:20260423T144021
CREATED:20190110T124103Z
LAST-MODIFIED:20190110T124103Z
UID:1985-1553421600-1553427000@www.evankeliset.net
SUMMARY:Savonlinna\, messu
DESCRIPTION:
URL:https://www.evankeliset.net/tapahtuma/savonlinna-messu/
END:VEVENT
BEGIN:VEVENT
DTSTART;TZID=Europe/Helsinki:20190324T100000
DTEND;TZID=Europe/Helsinki:20190324T130000
DTSTAMP:20260423T144021
CREATED:20180823T095800Z
LAST-MODIFIED:20180823T100019Z
UID:1272-1553421600-1553432400@www.evankeliset.net
SUMMARY:Alajärvi\, Elyn kirkkopyhä
DESCRIPTION:
URL:https://www.evankeliset.net/tapahtuma/alajarvi-elyn-kirkkopyha/
END:VEVENT
BEGIN:VEVENT
DTSTART;TZID=Europe/Helsinki:20190324T130000
DTEND;TZID=Europe/Helsinki:20190324T150000
DTSTAMP:20260423T144021
CREATED:20180823T095951Z
LAST-MODIFIED:20180823T095951Z
UID:1274-1553432400-1553439600@www.evankeliset.net
SUMMARY:Lehtimäki\, Elyn kirkkopyhä
DESCRIPTION:
URL:https://www.evankeliset.net/tapahtuma/lehtimaki-elyn-kirkkopyha/
END:VEVENT
END:VCALENDAR