BEGIN:VCALENDAR
VERSION:2.0
PRODID:-//Evankelinen lähetysyhdistys ELY ry - ECPv6.15.18//NONSGML v1.0//EN
CALSCALE:GREGORIAN
METHOD:PUBLISH
X-ORIGINAL-URL:https://www.evankeliset.net
X-WR-CALDESC:Tapahtumat Evankelinen lähetysyhdistys ELY ry
REFRESH-INTERVAL;VALUE=DURATION:PT1H
X-Robots-Tag:noindex
X-PUBLISHED-TTL:PT1H
BEGIN:VTIMEZONE
TZID:Europe/Helsinki
BEGIN:DAYLIGHT
TZOFFSETFROM:+0200
TZOFFSETTO:+0300
TZNAME:EEST
DTSTART:20180325T010000
END:DAYLIGHT
BEGIN:STANDARD
TZOFFSETFROM:+0300
TZOFFSETTO:+0200
TZNAME:EET
DTSTART:20181028T010000
END:STANDARD
BEGIN:DAYLIGHT
TZOFFSETFROM:+0200
TZOFFSETTO:+0300
TZNAME:EEST
DTSTART:20190331T010000
END:DAYLIGHT
BEGIN:STANDARD
TZOFFSETFROM:+0300
TZOFFSETTO:+0200
TZNAME:EET
DTSTART:20191027T010000
END:STANDARD
BEGIN:DAYLIGHT
TZOFFSETFROM:+0200
TZOFFSETTO:+0300
TZNAME:EEST
DTSTART:20200329T010000
END:DAYLIGHT
BEGIN:STANDARD
TZOFFSETFROM:+0300
TZOFFSETTO:+0200
TZNAME:EET
DTSTART:20201025T010000
END:STANDARD
END:VTIMEZONE
BEGIN:VEVENT
DTSTART;TZID=Europe/Helsinki:20190407T100000
DTEND;TZID=Europe/Helsinki:20190407T120000
DTSTAMP:20260423T175536
CREATED:20190110T124330Z
LAST-MODIFIED:20190110T124330Z
UID:1987-1554631200-1554638400@www.evankeliset.net
SUMMARY:Lappeenranta\,Lappeen srk\, kirkkopyhä
DESCRIPTION:
URL:https://www.evankeliset.net/tapahtuma/lappeenrantalappeen-srk-kirkkopyha/
END:VEVENT
BEGIN:VEVENT
DTSTART;TZID=Europe/Helsinki:20190407T100000
DTEND;TZID=Europe/Helsinki:20190407T130000
DTSTAMP:20260423T175536
CREATED:20181220T150233Z
LAST-MODIFIED:20181220T150233Z
UID:1900-1554631200-1554642000@www.evankeliset.net
SUMMARY:Tampere\, tuomiokirkko\, kirkkopyhä
DESCRIPTION:
URL:https://www.evankeliset.net/tapahtuma/tampere-tuomiokirkko-kirkkopyha/
END:VEVENT
BEGIN:VEVENT
DTSTART;TZID=Europe/Helsinki:20190407T100000
DTEND;TZID=Europe/Helsinki:20190407T140000
DTSTAMP:20260423T175536
CREATED:20181120T100151Z
LAST-MODIFIED:20181211T101840Z
UID:1817-1554631200-1554645600@www.evankeliset.net
SUMMARY:Karstula\, Kirkkopyhä
DESCRIPTION:
URL:https://www.evankeliset.net/tapahtuma/karstula-kirkkopyha/
END:VEVENT
BEGIN:VEVENT
DTSTART;TZID=Europe/Helsinki:20190407T100000
DTEND;TZID=Europe/Helsinki:20190407T140000
DTSTAMP:20260423T175536
CREATED:20181122T102741Z
LAST-MODIFIED:20190308T085750Z
UID:1823-1554631200-1554645600@www.evankeliset.net
SUMMARY:Evijärvi\, Kirkkopyhä ja Siionin Kannel seurat
DESCRIPTION:
URL:https://www.evankeliset.net/tapahtuma/evijarvi-kirkkopyha/
END:VEVENT
END:VCALENDAR