BEGIN:VCALENDAR
VERSION:2.0
PRODID:-//Evankelinen lähetysyhdistys ELY ry - ECPv6.15.18//NONSGML v1.0//EN
CALSCALE:GREGORIAN
METHOD:PUBLISH
X-WR-CALNAME:Evankelinen lähetysyhdistys ELY ry
X-ORIGINAL-URL:https://www.evankeliset.net
X-WR-CALDESC:Tapahtumat Evankelinen lähetysyhdistys ELY ry
REFRESH-INTERVAL;VALUE=DURATION:PT1H
X-Robots-Tag:noindex
X-PUBLISHED-TTL:PT1H
BEGIN:VTIMEZONE
TZID:Europe/Helsinki
BEGIN:DAYLIGHT
TZOFFSETFROM:+0200
TZOFFSETTO:+0300
TZNAME:EEST
DTSTART:20180325T010000
END:DAYLIGHT
BEGIN:STANDARD
TZOFFSETFROM:+0300
TZOFFSETTO:+0200
TZNAME:EET
DTSTART:20181028T010000
END:STANDARD
BEGIN:DAYLIGHT
TZOFFSETFROM:+0200
TZOFFSETTO:+0300
TZNAME:EEST
DTSTART:20190331T010000
END:DAYLIGHT
BEGIN:STANDARD
TZOFFSETFROM:+0300
TZOFFSETTO:+0200
TZNAME:EET
DTSTART:20191027T010000
END:STANDARD
BEGIN:DAYLIGHT
TZOFFSETFROM:+0200
TZOFFSETTO:+0300
TZNAME:EEST
DTSTART:20200329T010000
END:DAYLIGHT
BEGIN:STANDARD
TZOFFSETFROM:+0300
TZOFFSETTO:+0200
TZNAME:EET
DTSTART:20201025T010000
END:STANDARD
END:VTIMEZONE
BEGIN:VEVENT
DTSTART;TZID=Europe/Helsinki:20190416T080000
DTEND;TZID=Europe/Helsinki:20190416T170000
DTSTAMP:20260423T175451
CREATED:20190110T124810Z
LAST-MODIFIED:20190110T124810Z
UID:1995-1555401600-1555434000@www.evankeliset.net
SUMMARY:Juva\,Raamattuluento
DESCRIPTION:
URL:https://www.evankeliset.net/tapahtuma/juvaraamattuluento-2/
END:VEVENT
BEGIN:VEVENT
DTSTART;TZID=Europe/Helsinki:20190416T133000
DTEND;TZID=Europe/Helsinki:20190416T153000
DTSTAMP:20260423T175451
CREATED:20190118T064413Z
LAST-MODIFIED:20190118T064413Z
UID:2025-1555421400-1555428600@www.evankeliset.net
SUMMARY:Forssa\, Siionin Kannel -seurat
DESCRIPTION:
URL:https://www.evankeliset.net/tapahtuma/forssa-siionin-kannel-seurat-7/
END:VEVENT
BEGIN:VEVENT
DTSTART;TZID=Europe/Helsinki:20190416T190000
DTEND;TZID=Europe/Helsinki:20190416T190000
DTSTAMP:20260423T175451
CREATED:20190121T180142Z
LAST-MODIFIED:20190313T093519Z
UID:2059-1555441200-1555441200@www.evankeliset.net
SUMMARY:Alahärmä\, Laula kanssain
DESCRIPTION:
URL:https://www.evankeliset.net/tapahtuma/alaharma-laula-kanssain/
END:VEVENT
END:VCALENDAR