BEGIN:VCALENDAR
VERSION:2.0
PRODID:-//Evankelinen lähetysyhdistys ELY ry - ECPv6.15.18//NONSGML v1.0//EN
CALSCALE:GREGORIAN
METHOD:PUBLISH
X-WR-CALNAME:Evankelinen lähetysyhdistys ELY ry
X-ORIGINAL-URL:https://www.evankeliset.net
X-WR-CALDESC:Tapahtumat Evankelinen lähetysyhdistys ELY ry
REFRESH-INTERVAL;VALUE=DURATION:PT1H
X-Robots-Tag:noindex
X-PUBLISHED-TTL:PT1H
BEGIN:VTIMEZONE
TZID:Europe/Helsinki
BEGIN:DAYLIGHT
TZOFFSETFROM:+0200
TZOFFSETTO:+0300
TZNAME:EEST
DTSTART:20180325T010000
END:DAYLIGHT
BEGIN:STANDARD
TZOFFSETFROM:+0300
TZOFFSETTO:+0200
TZNAME:EET
DTSTART:20181028T010000
END:STANDARD
BEGIN:DAYLIGHT
TZOFFSETFROM:+0200
TZOFFSETTO:+0300
TZNAME:EEST
DTSTART:20190331T010000
END:DAYLIGHT
BEGIN:STANDARD
TZOFFSETFROM:+0300
TZOFFSETTO:+0200
TZNAME:EET
DTSTART:20191027T010000
END:STANDARD
BEGIN:DAYLIGHT
TZOFFSETFROM:+0200
TZOFFSETTO:+0300
TZNAME:EEST
DTSTART:20200329T010000
END:DAYLIGHT
BEGIN:STANDARD
TZOFFSETFROM:+0300
TZOFFSETTO:+0200
TZNAME:EET
DTSTART:20201025T010000
END:STANDARD
END:VTIMEZONE
BEGIN:VEVENT
DTSTART;TZID=Europe/Helsinki:20190418T093000
DTEND;TZID=Europe/Helsinki:20190418T140000
DTSTAMP:20260423T175542
CREATED:20190121T180530Z
LAST-MODIFIED:20190121T180530Z
UID:2063-1555579800-1555596000@www.evankeliset.net
SUMMARY:Laula kanssain
DESCRIPTION:
URL:https://www.evankeliset.net/tapahtuma/laula-kanssain-2/
END:VEVENT
BEGIN:VEVENT
DTSTART;TZID=Europe/Helsinki:20190418T100000
DTEND;TZID=Europe/Helsinki:20190418T120000
DTSTAMP:20260423T175542
CREATED:20190122T120020Z
LAST-MODIFIED:20190313T094726Z
UID:2119-1555581600-1555588800@www.evankeliset.net
SUMMARY:Tiistenjoki\, Laulaen pääsiäiseen
DESCRIPTION:
URL:https://www.evankeliset.net/tapahtuma/tiistenjoki-laulaen-paasiaiseen/
END:VEVENT
BEGIN:VEVENT
DTSTART;TZID=Europe/Helsinki:20190418T113000
DTEND;TZID=Europe/Helsinki:20190418T130000
DTSTAMP:20260423T175542
CREATED:20190121T180645Z
LAST-MODIFIED:20190415T060416Z
UID:2065-1555587000-1555592400@www.evankeliset.net
SUMMARY:Alahärmä\, Laula kanssain
DESCRIPTION:
URL:https://www.evankeliset.net/tapahtuma/alaharma-laula-kanssain-2/
END:VEVENT
END:VCALENDAR