BEGIN:VCALENDAR
VERSION:2.0
PRODID:-//Evankelinen lähetysyhdistys ELY ry - ECPv6.15.18//NONSGML v1.0//EN
CALSCALE:GREGORIAN
METHOD:PUBLISH
X-ORIGINAL-URL:https://www.evankeliset.net
X-WR-CALDESC:Tapahtumat Evankelinen lähetysyhdistys ELY ry
REFRESH-INTERVAL;VALUE=DURATION:PT1H
X-Robots-Tag:noindex
X-PUBLISHED-TTL:PT1H
BEGIN:VTIMEZONE
TZID:Europe/Helsinki
BEGIN:DAYLIGHT
TZOFFSETFROM:+0200
TZOFFSETTO:+0300
TZNAME:EEST
DTSTART:20180325T010000
END:DAYLIGHT
BEGIN:STANDARD
TZOFFSETFROM:+0300
TZOFFSETTO:+0200
TZNAME:EET
DTSTART:20181028T010000
END:STANDARD
BEGIN:DAYLIGHT
TZOFFSETFROM:+0200
TZOFFSETTO:+0300
TZNAME:EEST
DTSTART:20190331T010000
END:DAYLIGHT
BEGIN:STANDARD
TZOFFSETFROM:+0300
TZOFFSETTO:+0200
TZNAME:EET
DTSTART:20191027T010000
END:STANDARD
BEGIN:DAYLIGHT
TZOFFSETFROM:+0200
TZOFFSETTO:+0300
TZNAME:EEST
DTSTART:20200329T010000
END:DAYLIGHT
BEGIN:STANDARD
TZOFFSETFROM:+0300
TZOFFSETTO:+0200
TZNAME:EET
DTSTART:20201025T010000
END:STANDARD
END:VTIMEZONE
BEGIN:VEVENT
DTSTART;TZID=Europe/Helsinki:20190423T180000
DTEND;TZID=Europe/Helsinki:20190423T200000
DTSTAMP:20260423T175608
CREATED:20180618T062506Z
LAST-MODIFIED:20180618T062506Z
UID:1041-1556042400-1556049600@www.evankeliset.net
SUMMARY:Salo\, Siionin Kannel -seurat
DESCRIPTION:
URL:https://www.evankeliset.net/tapahtuma/salo-siionin-kannel-seurat-4/
END:VEVENT
BEGIN:VEVENT
DTSTART;TZID=Europe/Helsinki:20190423T180000
DTEND;TZID=Europe/Helsinki:20190423T200000
DTSTAMP:20260423T175608
CREATED:20181101T121939Z
LAST-MODIFIED:20190408T153127Z
UID:1762-1556042400-1556049600@www.evankeliset.net
SUMMARY:Alavus\, lauluseurat
DESCRIPTION:
URL:https://www.evankeliset.net/tapahtuma/alavus-lauluseurat-6/
END:VEVENT
END:VCALENDAR