BEGIN:VCALENDAR
VERSION:2.0
PRODID:-//Evankelinen lähetysyhdistys ELY ry - ECPv6.15.18//NONSGML v1.0//EN
CALSCALE:GREGORIAN
METHOD:PUBLISH
X-WR-CALNAME:Evankelinen lähetysyhdistys ELY ry
X-ORIGINAL-URL:https://www.evankeliset.net
X-WR-CALDESC:Tapahtumat Evankelinen lähetysyhdistys ELY ry
REFRESH-INTERVAL;VALUE=DURATION:PT1H
X-Robots-Tag:noindex
X-PUBLISHED-TTL:PT1H
BEGIN:VTIMEZONE
TZID:Europe/Helsinki
BEGIN:DAYLIGHT
TZOFFSETFROM:+0200
TZOFFSETTO:+0300
TZNAME:EEST
DTSTART:20180325T010000
END:DAYLIGHT
BEGIN:STANDARD
TZOFFSETFROM:+0300
TZOFFSETTO:+0200
TZNAME:EET
DTSTART:20181028T010000
END:STANDARD
BEGIN:DAYLIGHT
TZOFFSETFROM:+0200
TZOFFSETTO:+0300
TZNAME:EEST
DTSTART:20190331T010000
END:DAYLIGHT
BEGIN:STANDARD
TZOFFSETFROM:+0300
TZOFFSETTO:+0200
TZNAME:EET
DTSTART:20191027T010000
END:STANDARD
BEGIN:DAYLIGHT
TZOFFSETFROM:+0200
TZOFFSETTO:+0300
TZNAME:EEST
DTSTART:20200329T010000
END:DAYLIGHT
BEGIN:STANDARD
TZOFFSETFROM:+0300
TZOFFSETTO:+0200
TZNAME:EET
DTSTART:20201025T010000
END:STANDARD
END:VTIMEZONE
BEGIN:VEVENT
DTSTART;TZID=Europe/Helsinki:20190428T100000
DTEND;TZID=Europe/Helsinki:20190428T130000
DTSTAMP:20260423T175452
CREATED:20190110T125017Z
LAST-MODIFIED:20190110T125017Z
UID:1999-1556445600-1556456400@www.evankeliset.net
SUMMARY:Joensuu\,Pielisensuun srk\, kirkkopyhä
DESCRIPTION:
URL:https://www.evankeliset.net/tapahtuma/joensuupielisensuun-srk-kirkkopyha/
END:VEVENT
BEGIN:VEVENT
DTSTART;TZID=Europe/Helsinki:20190428T120000
DTEND;TZID=Europe/Helsinki:20190428T130000
DTSTAMP:20260423T175452
CREATED:20190205T204506Z
LAST-MODIFIED:20190205T204506Z
UID:2175-1556452800-1556456400@www.evankeliset.net
SUMMARY:Yhdessä Raamatun äärellä
DESCRIPTION:
URL:https://www.evankeliset.net/tapahtuma/yhdessa-raamatun-aarella-2/
END:VEVENT
END:VCALENDAR