BEGIN:VCALENDAR
VERSION:2.0
PRODID:-//Evankelinen lähetysyhdistys ELY ry - ECPv6.15.18//NONSGML v1.0//EN
CALSCALE:GREGORIAN
METHOD:PUBLISH
X-ORIGINAL-URL:https://www.evankeliset.net
X-WR-CALDESC:Tapahtumat Evankelinen lähetysyhdistys ELY ry
REFRESH-INTERVAL;VALUE=DURATION:PT1H
X-Robots-Tag:noindex
X-PUBLISHED-TTL:PT1H
BEGIN:VTIMEZONE
TZID:Europe/Helsinki
BEGIN:DAYLIGHT
TZOFFSETFROM:+0200
TZOFFSETTO:+0300
TZNAME:EEST
DTSTART:20180325T010000
END:DAYLIGHT
BEGIN:STANDARD
TZOFFSETFROM:+0300
TZOFFSETTO:+0200
TZNAME:EET
DTSTART:20181028T010000
END:STANDARD
BEGIN:DAYLIGHT
TZOFFSETFROM:+0200
TZOFFSETTO:+0300
TZNAME:EEST
DTSTART:20190331T010000
END:DAYLIGHT
BEGIN:STANDARD
TZOFFSETFROM:+0300
TZOFFSETTO:+0200
TZNAME:EET
DTSTART:20191027T010000
END:STANDARD
BEGIN:DAYLIGHT
TZOFFSETFROM:+0200
TZOFFSETTO:+0300
TZNAME:EEST
DTSTART:20200329T010000
END:DAYLIGHT
BEGIN:STANDARD
TZOFFSETFROM:+0300
TZOFFSETTO:+0200
TZNAME:EET
DTSTART:20201025T010000
END:STANDARD
END:VTIMEZONE
BEGIN:VEVENT
DTSTART;TZID=Europe/Helsinki:20190512T100000
DTEND;TZID=Europe/Helsinki:20190512T130000
DTSTAMP:20260423T175603
CREATED:20181220T150703Z
LAST-MODIFIED:20181220T150703Z
UID:1902-1557655200-1557666000@www.evankeliset.net
SUMMARY:Ylöjärvi\, kirkkopyhä
DESCRIPTION:
URL:https://www.evankeliset.net/tapahtuma/ylojarvi-kirkkopyha/
END:VEVENT
BEGIN:VEVENT
DTSTART;TZID=Europe/Helsinki:20190512T100000
DTEND;TZID=Europe/Helsinki:20190512T130000
DTSTAMP:20260423T175603
CREATED:20190110T125215Z
LAST-MODIFIED:20190110T125215Z
UID:2003-1557655200-1557666000@www.evankeliset.net
SUMMARY:Joutseno\, kirkkopyhä
DESCRIPTION:
URL:https://www.evankeliset.net/tapahtuma/joutseno-kirkkopyha/
END:VEVENT
BEGIN:VEVENT
DTSTART;TZID=Europe/Helsinki:20190512T100000
DTEND;TZID=Europe/Helsinki:20190512T140000
DTSTAMP:20260423T175603
CREATED:20190412T054541Z
LAST-MODIFIED:20190412T054541Z
UID:2396-1557655200-1557669600@www.evankeliset.net
SUMMARY:Hanko\, Elyn kirkkopyhä
DESCRIPTION:
URL:https://www.evankeliset.net/tapahtuma/hanko-elyn-kirkkopyha-2/
END:VEVENT
END:VCALENDAR