BEGIN:VCALENDAR
VERSION:2.0
PRODID:-//Evankelinen lähetysyhdistys ELY ry - ECPv6.15.18//NONSGML v1.0//EN
CALSCALE:GREGORIAN
METHOD:PUBLISH
X-WR-CALNAME:Evankelinen lähetysyhdistys ELY ry
X-ORIGINAL-URL:https://www.evankeliset.net
X-WR-CALDESC:Tapahtumat Evankelinen lähetysyhdistys ELY ry
REFRESH-INTERVAL;VALUE=DURATION:PT1H
X-Robots-Tag:noindex
X-PUBLISHED-TTL:PT1H
BEGIN:VTIMEZONE
TZID:Europe/Helsinki
BEGIN:DAYLIGHT
TZOFFSETFROM:+0200
TZOFFSETTO:+0300
TZNAME:EEST
DTSTART:20180325T010000
END:DAYLIGHT
BEGIN:STANDARD
TZOFFSETFROM:+0300
TZOFFSETTO:+0200
TZNAME:EET
DTSTART:20181028T010000
END:STANDARD
BEGIN:DAYLIGHT
TZOFFSETFROM:+0200
TZOFFSETTO:+0300
TZNAME:EEST
DTSTART:20190331T010000
END:DAYLIGHT
BEGIN:STANDARD
TZOFFSETFROM:+0300
TZOFFSETTO:+0200
TZNAME:EET
DTSTART:20191027T010000
END:STANDARD
BEGIN:DAYLIGHT
TZOFFSETFROM:+0200
TZOFFSETTO:+0300
TZNAME:EEST
DTSTART:20200329T010000
END:DAYLIGHT
BEGIN:STANDARD
TZOFFSETFROM:+0300
TZOFFSETTO:+0200
TZNAME:EET
DTSTART:20201025T010000
END:STANDARD
END:VTIMEZONE
BEGIN:VEVENT
DTSTART;TZID=Europe/Helsinki:20190515T180000
DTEND;TZID=Europe/Helsinki:20190515T200000
DTSTAMP:20260423T175538
CREATED:20190321T070927Z
LAST-MODIFIED:20190424T040938Z
UID:2316-1557943200-1557950400@www.evankeliset.net
SUMMARY:Hyvinkää\, Kotiseurat
DESCRIPTION:
URL:https://www.evankeliset.net/tapahtuma/hyvinkaa-kotiseurat/
END:VEVENT
BEGIN:VEVENT
DTSTART;TZID=Europe/Helsinki:20190515T190000
DTEND;TZID=Europe/Helsinki:20190515T210000
DTSTAMP:20260423T175538
CREATED:20190307T162757Z
LAST-MODIFIED:20190423T043710Z
UID:2273-1557946800-1557954000@www.evankeliset.net
SUMMARY:Kuortane\, kevätseurat
DESCRIPTION:
URL:https://www.evankeliset.net/tapahtuma/kuortane-kevatseurat/
END:VEVENT
END:VCALENDAR