BEGIN:VCALENDAR
VERSION:2.0
PRODID:-//Evankelinen lähetysyhdistys ELY ry - ECPv6.15.18//NONSGML v1.0//EN
CALSCALE:GREGORIAN
METHOD:PUBLISH
X-ORIGINAL-URL:https://www.evankeliset.net
X-WR-CALDESC:Tapahtumat Evankelinen lähetysyhdistys ELY ry
REFRESH-INTERVAL;VALUE=DURATION:PT1H
X-Robots-Tag:noindex
X-PUBLISHED-TTL:PT1H
BEGIN:VTIMEZONE
TZID:Europe/Helsinki
BEGIN:DAYLIGHT
TZOFFSETFROM:+0200
TZOFFSETTO:+0300
TZNAME:EEST
DTSTART:20180325T010000
END:DAYLIGHT
BEGIN:STANDARD
TZOFFSETFROM:+0300
TZOFFSETTO:+0200
TZNAME:EET
DTSTART:20181028T010000
END:STANDARD
BEGIN:DAYLIGHT
TZOFFSETFROM:+0200
TZOFFSETTO:+0300
TZNAME:EEST
DTSTART:20190331T010000
END:DAYLIGHT
BEGIN:STANDARD
TZOFFSETFROM:+0300
TZOFFSETTO:+0200
TZNAME:EET
DTSTART:20191027T010000
END:STANDARD
BEGIN:DAYLIGHT
TZOFFSETFROM:+0200
TZOFFSETTO:+0300
TZNAME:EEST
DTSTART:20200329T010000
END:DAYLIGHT
BEGIN:STANDARD
TZOFFSETFROM:+0300
TZOFFSETTO:+0200
TZNAME:EET
DTSTART:20201025T010000
END:STANDARD
END:VTIMEZONE
BEGIN:VEVENT
DTSTART;TZID=Europe/Helsinki:20190519T100000
DTEND;TZID=Europe/Helsinki:20190519T140000
DTSTAMP:20260423T175603
CREATED:20181220T085505Z
LAST-MODIFIED:20181220T085505Z
UID:1883-1558260000-1558274400@www.evankeliset.net
SUMMARY:Hämeenlinna\, Elyn kirkkopyhä
DESCRIPTION:
URL:https://www.evankeliset.net/tapahtuma/hameenlinna-elyn-kirkkopyha-3/
END:VEVENT
BEGIN:VEVENT
DTSTART;TZID=Europe/Helsinki:20190519T123000
DTEND;TZID=Europe/Helsinki:20190519T133000
DTSTAMP:20260423T175603
CREATED:20190205T204654Z
LAST-MODIFIED:20190205T204654Z
UID:2177-1558269000-1558272600@www.evankeliset.net
SUMMARY:Yhdessä Raamatun äärellä
DESCRIPTION:
URL:https://www.evankeliset.net/tapahtuma/yhdessa-raamatun-aarella-3/
END:VEVENT
BEGIN:VEVENT
DTSTART;TZID=Europe/Helsinki:20190519T150000
DTEND;TZID=Europe/Helsinki:20190519T170000
DTSTAMP:20260423T175603
CREATED:20181010T091135Z
LAST-MODIFIED:20190315T093629Z
UID:1615-1558278000-1558285200@www.evankeliset.net
SUMMARY:Seinäjoki\, Kevätlauluseurat
DESCRIPTION:
URL:https://www.evankeliset.net/tapahtuma/seinajoki-kevatlauluseurat/
END:VEVENT
BEGIN:VEVENT
DTSTART;TZID=Europe/Helsinki:20190519T160000
DTEND;TZID=Europe/Helsinki:20190519T180000
DTSTAMP:20260423T175603
CREATED:20190110T125325Z
LAST-MODIFIED:20190110T125325Z
UID:2005-1558281600-1558288800@www.evankeliset.net
SUMMARY:Lappenranta\, Lauritsalan srk\, perheraamis
DESCRIPTION:
URL:https://www.evankeliset.net/tapahtuma/lappenranta-lauritsalan-srk-perheraamis/
END:VEVENT
END:VCALENDAR