BEGIN:VCALENDAR
VERSION:2.0
PRODID:-//Evankelinen lähetysyhdistys ELY ry - ECPv6.15.18//NONSGML v1.0//EN
CALSCALE:GREGORIAN
METHOD:PUBLISH
X-WR-CALNAME:Evankelinen lähetysyhdistys ELY ry
X-ORIGINAL-URL:https://www.evankeliset.net
X-WR-CALDESC:Tapahtumat Evankelinen lähetysyhdistys ELY ry
REFRESH-INTERVAL;VALUE=DURATION:PT1H
X-Robots-Tag:noindex
X-PUBLISHED-TTL:PT1H
BEGIN:VTIMEZONE
TZID:Europe/Helsinki
BEGIN:DAYLIGHT
TZOFFSETFROM:+0200
TZOFFSETTO:+0300
TZNAME:EEST
DTSTART:20180325T010000
END:DAYLIGHT
BEGIN:STANDARD
TZOFFSETFROM:+0300
TZOFFSETTO:+0200
TZNAME:EET
DTSTART:20181028T010000
END:STANDARD
BEGIN:DAYLIGHT
TZOFFSETFROM:+0200
TZOFFSETTO:+0300
TZNAME:EEST
DTSTART:20190331T010000
END:DAYLIGHT
BEGIN:STANDARD
TZOFFSETFROM:+0300
TZOFFSETTO:+0200
TZNAME:EET
DTSTART:20191027T010000
END:STANDARD
BEGIN:DAYLIGHT
TZOFFSETFROM:+0200
TZOFFSETTO:+0300
TZNAME:EEST
DTSTART:20200329T010000
END:DAYLIGHT
BEGIN:STANDARD
TZOFFSETFROM:+0300
TZOFFSETTO:+0200
TZNAME:EET
DTSTART:20201025T010000
END:STANDARD
END:VTIMEZONE
BEGIN:VEVENT
DTSTART;TZID=Europe/Helsinki:20190804T100000
DTEND;TZID=Europe/Helsinki:20190804T120000
DTSTAMP:20260423T231523
CREATED:20190121T184716Z
LAST-MODIFIED:20190704T052055Z
UID:2083-1564912800-1564920000@www.evankeliset.net
SUMMARY:Kannus\, Kansanlaulukirkko
DESCRIPTION:
URL:https://www.evankeliset.net/tapahtuma/kannus-kansanlaulukirkko/
END:VEVENT
BEGIN:VEVENT
DTSTART;TZID=Europe/Helsinki:20190804T140000
DTEND;TZID=Europe/Helsinki:20190804T160000
DTSTAMP:20260423T231523
CREATED:20190513T054110Z
LAST-MODIFIED:20190513T054110Z
UID:2523-1564927200-1564934400@www.evankeliset.net
SUMMARY:Kouvola\, kesäinen laulutilaisuus Maria-salissa
DESCRIPTION:
URL:https://www.evankeliset.net/tapahtuma/kouvola-kesainen-laulutilaisuus-maria-salissa/
END:VEVENT
BEGIN:VEVENT
DTSTART;TZID=Europe/Helsinki:20190804T150000
DTEND;TZID=Europe/Helsinki:20190804T180000
DTSTAMP:20260423T231523
CREATED:20190515T093900Z
LAST-MODIFIED:20190716T043529Z
UID:2540-1564930800-1564941600@www.evankeliset.net
SUMMARY:Alahärmä\, Miesten iltapäivä
DESCRIPTION:
URL:https://www.evankeliset.net/tapahtuma/alaharma-miesten-iltapaiva/
END:VEVENT
BEGIN:VEVENT
DTSTART;TZID=Europe/Helsinki:20190804T180000
DTEND;TZID=Europe/Helsinki:20190804T200000
DTSTAMP:20260423T231523
CREATED:20190513T054408Z
LAST-MODIFIED:20190513T054408Z
UID:2525-1564941600-1564948800@www.evankeliset.net
SUMMARY:Hamina\, lauluseurat Osmo Näkillä
DESCRIPTION:
URL:https://www.evankeliset.net/tapahtuma/hamina-lauluseurat-osmo-nakilla/
END:VEVENT
END:VCALENDAR