BEGIN:VCALENDAR
VERSION:2.0
PRODID:-//Evankelinen lähetysyhdistys ELY ry - ECPv6.15.18//NONSGML v1.0//EN
CALSCALE:GREGORIAN
METHOD:PUBLISH
X-WR-CALNAME:Evankelinen lähetysyhdistys ELY ry
X-ORIGINAL-URL:https://www.evankeliset.net
X-WR-CALDESC:Tapahtumat Evankelinen lähetysyhdistys ELY ry
REFRESH-INTERVAL;VALUE=DURATION:PT1H
X-Robots-Tag:noindex
X-PUBLISHED-TTL:PT1H
BEGIN:VTIMEZONE
TZID:Europe/Helsinki
BEGIN:DAYLIGHT
TZOFFSETFROM:+0200
TZOFFSETTO:+0300
TZNAME:EEST
DTSTART:20180325T010000
END:DAYLIGHT
BEGIN:STANDARD
TZOFFSETFROM:+0300
TZOFFSETTO:+0200
TZNAME:EET
DTSTART:20181028T010000
END:STANDARD
BEGIN:DAYLIGHT
TZOFFSETFROM:+0200
TZOFFSETTO:+0300
TZNAME:EEST
DTSTART:20190331T010000
END:DAYLIGHT
BEGIN:STANDARD
TZOFFSETFROM:+0300
TZOFFSETTO:+0200
TZNAME:EET
DTSTART:20191027T010000
END:STANDARD
BEGIN:DAYLIGHT
TZOFFSETFROM:+0200
TZOFFSETTO:+0300
TZNAME:EEST
DTSTART:20200329T010000
END:DAYLIGHT
BEGIN:STANDARD
TZOFFSETFROM:+0300
TZOFFSETTO:+0200
TZNAME:EET
DTSTART:20201025T010000
END:STANDARD
END:VTIMEZONE
BEGIN:VEVENT
DTSTART;TZID=Europe/Helsinki:20190912T120000
DTEND;TZID=Europe/Helsinki:20190912T130000
DTSTAMP:20260424T005034
CREATED:20190820T081454Z
LAST-MODIFIED:20190820T081454Z
UID:2785-1568289600-1568293200@www.evankeliset.net
SUMMARY:Kokkola\, Lähetyssopin lauluhetki
DESCRIPTION:
URL:https://www.evankeliset.net/tapahtuma/kokkola-lahetyssopin-lauluhetki/
END:VEVENT
BEGIN:VEVENT
DTSTART;TZID=Europe/Helsinki:20190912T130000
DTEND;TZID=Europe/Helsinki:20190912T150000
DTSTAMP:20260424T005034
CREATED:20190416T062834Z
LAST-MODIFIED:20190707T093430Z
UID:2413-1568293200-1568300400@www.evankeliset.net
SUMMARY:Kauhajoki\, Siionin Kannel seurat
DESCRIPTION:
URL:https://www.evankeliset.net/tapahtuma/kauhajoki-siionin-kannel-seurat-2/
END:VEVENT
BEGIN:VEVENT
DTSTART;TZID=Europe/Helsinki:20190912T180000
DTEND;TZID=Europe/Helsinki:20190912T193000
DTSTAMP:20260424T005034
CREATED:20190614T055724Z
LAST-MODIFIED:20190614T055724Z
UID:2595-1568311200-1568316600@www.evankeliset.net
SUMMARY:Sulkava\, Raamattuluento
DESCRIPTION:
URL:https://www.evankeliset.net/tapahtuma/sulkava-raamattuluento-12/
END:VEVENT
END:VCALENDAR