BEGIN:VCALENDAR
VERSION:2.0
PRODID:-//Evankelinen lähetysyhdistys ELY ry - ECPv6.15.18//NONSGML v1.0//EN
CALSCALE:GREGORIAN
METHOD:PUBLISH
X-WR-CALNAME:Evankelinen lähetysyhdistys ELY ry
X-ORIGINAL-URL:https://www.evankeliset.net
X-WR-CALDESC:Tapahtumat Evankelinen lähetysyhdistys ELY ry
REFRESH-INTERVAL;VALUE=DURATION:PT1H
X-Robots-Tag:noindex
X-PUBLISHED-TTL:PT1H
BEGIN:VTIMEZONE
TZID:Europe/Helsinki
BEGIN:DAYLIGHT
TZOFFSETFROM:+0200
TZOFFSETTO:+0300
TZNAME:EEST
DTSTART:20180325T010000
END:DAYLIGHT
BEGIN:STANDARD
TZOFFSETFROM:+0300
TZOFFSETTO:+0200
TZNAME:EET
DTSTART:20181028T010000
END:STANDARD
BEGIN:DAYLIGHT
TZOFFSETFROM:+0200
TZOFFSETTO:+0300
TZNAME:EEST
DTSTART:20190331T010000
END:DAYLIGHT
BEGIN:STANDARD
TZOFFSETFROM:+0300
TZOFFSETTO:+0200
TZNAME:EET
DTSTART:20191027T010000
END:STANDARD
BEGIN:DAYLIGHT
TZOFFSETFROM:+0200
TZOFFSETTO:+0300
TZNAME:EEST
DTSTART:20200329T010000
END:DAYLIGHT
BEGIN:STANDARD
TZOFFSETFROM:+0300
TZOFFSETTO:+0200
TZNAME:EET
DTSTART:20201025T010000
END:STANDARD
END:VTIMEZONE
BEGIN:VEVENT
DTSTART;VALUE=DATE:20190921
DTEND;VALUE=DATE:20190923
DTSTAMP:20260424T005033
CREATED:20190830T050911Z
LAST-MODIFIED:20190830T050911Z
UID:2836-1569024000-1569196799@www.evankeliset.net
SUMMARY:Espoo\, Syysmatin markkinat
DESCRIPTION:
URL:https://www.evankeliset.net/tapahtuma/espoo-syysmatin-markkinat-2/
END:VEVENT
BEGIN:VEVENT
DTSTART;TZID=Europe/Helsinki:20190922T100000
DTEND;TZID=Europe/Helsinki:20190922T130000
DTSTAMP:20260424T005033
CREATED:20190614T055939Z
LAST-MODIFIED:20190614T055939Z
UID:2599-1569146400-1569157200@www.evankeliset.net
SUMMARY:Hirvensalmi\, ELYn kirkkopyhä
DESCRIPTION:
URL:https://www.evankeliset.net/tapahtuma/hirvensalmi-elyn-kirkkopyha/
END:VEVENT
BEGIN:VEVENT
DTSTART;TZID=Europe/Helsinki:20190922T100000
DTEND;TZID=Europe/Helsinki:20190922T140000
DTSTAMP:20260424T005033
CREATED:20190121T192231Z
LAST-MODIFIED:20190629T102508Z
UID:2097-1569146400-1569160800@www.evankeliset.net
SUMMARY:Toholampi\, kirkkopyhä
DESCRIPTION:
URL:https://www.evankeliset.net/tapahtuma/toholampi-kirkkopyha/
END:VEVENT
BEGIN:VEVENT
DTSTART;TZID=Europe/Helsinki:20190922T140000
DTEND;TZID=Europe/Helsinki:20190922T153000
DTSTAMP:20260424T005033
CREATED:20190408T082620Z
LAST-MODIFIED:20190629T102626Z
UID:2381-1569160800-1569166200@www.evankeliset.net
SUMMARY:Jalasjärvi\, Raamattuluento
DESCRIPTION:
URL:https://www.evankeliset.net/tapahtuma/jalasjarvi-raamattuluento/
END:VEVENT
BEGIN:VEVENT
DTSTART;TZID=Europe/Helsinki:20190922T180000
DTEND;TZID=Europe/Helsinki:20190922T193000
DTSTAMP:20260424T005033
CREATED:20190124T130153Z
LAST-MODIFIED:20190911T085053Z
UID:2129-1569175200-1569180600@www.evankeliset.net
SUMMARY:Hyvinkää\, Iltakirkko
DESCRIPTION:
URL:https://www.evankeliset.net/tapahtuma/hyvinkaa-iltakirkko-2/
END:VEVENT
BEGIN:VEVENT
DTSTART;TZID=Europe/Helsinki:20190922T180000
DTEND;TZID=Europe/Helsinki:20190922T200000
DTSTAMP:20260424T005033
CREATED:20190211T120019Z
LAST-MODIFIED:20190701T074323Z
UID:2227-1569175200-1569182400@www.evankeliset.net
SUMMARY:Lapua\, Minä uskon? raamattuluento
DESCRIPTION:
URL:https://www.evankeliset.net/tapahtuma/lapua-mina-uskon-raamattuluento-3/
END:VEVENT
BEGIN:VEVENT
DTSTART;TZID=Europe/Helsinki:20190922T180000
DTEND;TZID=Europe/Helsinki:20190922T200000
DTSTAMP:20260424T005033
CREATED:20190629T102923Z
LAST-MODIFIED:20190905T074048Z
UID:2659-1569175200-1569182400@www.evankeliset.net
SUMMARY:Ilmajoki\, Raamattuluento
DESCRIPTION:
URL:https://www.evankeliset.net/tapahtuma/ilmajoki-raamattuluento/
END:VEVENT
END:VCALENDAR