BEGIN:VCALENDAR
VERSION:2.0
PRODID:-//Evankelinen lähetysyhdistys ELY ry - ECPv6.15.18//NONSGML v1.0//EN
CALSCALE:GREGORIAN
METHOD:PUBLISH
X-WR-CALNAME:Evankelinen lähetysyhdistys ELY ry
X-ORIGINAL-URL:https://www.evankeliset.net
X-WR-CALDESC:Tapahtumat Evankelinen lähetysyhdistys ELY ry
REFRESH-INTERVAL;VALUE=DURATION:PT1H
X-Robots-Tag:noindex
X-PUBLISHED-TTL:PT1H
BEGIN:VTIMEZONE
TZID:Europe/Helsinki
BEGIN:DAYLIGHT
TZOFFSETFROM:+0200
TZOFFSETTO:+0300
TZNAME:EEST
DTSTART:20180325T010000
END:DAYLIGHT
BEGIN:STANDARD
TZOFFSETFROM:+0300
TZOFFSETTO:+0200
TZNAME:EET
DTSTART:20181028T010000
END:STANDARD
BEGIN:DAYLIGHT
TZOFFSETFROM:+0200
TZOFFSETTO:+0300
TZNAME:EEST
DTSTART:20190331T010000
END:DAYLIGHT
BEGIN:STANDARD
TZOFFSETFROM:+0300
TZOFFSETTO:+0200
TZNAME:EET
DTSTART:20191027T010000
END:STANDARD
BEGIN:DAYLIGHT
TZOFFSETFROM:+0200
TZOFFSETTO:+0300
TZNAME:EEST
DTSTART:20200329T010000
END:DAYLIGHT
BEGIN:STANDARD
TZOFFSETFROM:+0300
TZOFFSETTO:+0200
TZNAME:EET
DTSTART:20201025T010000
END:STANDARD
END:VTIMEZONE
BEGIN:VEVENT
DTSTART;TZID=Europe/Helsinki:20190929T100000
DTEND;TZID=Europe/Helsinki:20190929T140000
DTSTAMP:20260424T005037
CREATED:20190902T114841Z
LAST-MODIFIED:20190902T115019Z
UID:2850-1569751200-1569765600@www.evankeliset.net
SUMMARY:Tampere\, kiitosjuhla Kalevan kirkossa
DESCRIPTION:
URL:https://www.evankeliset.net/tapahtuma/kiitosjuhla-kalevan-kirkossa-tampereella/
END:VEVENT
BEGIN:VEVENT
DTSTART;TZID=Europe/Helsinki:20190929T140000
DTEND;TZID=Europe/Helsinki:20190929T160000
DTSTAMP:20260424T005037
CREATED:20190326T173956Z
LAST-MODIFIED:20190701T082602Z
UID:2361-1569765600-1569772800@www.evankeliset.net
SUMMARY:Lohtaja Kotiseurat
DESCRIPTION:
URL:https://www.evankeliset.net/tapahtuma/lohtaja-kotiseurat/
END:VEVENT
BEGIN:VEVENT
DTSTART;TZID=Europe/Helsinki:20190929T170000
DTEND;TZID=Europe/Helsinki:20190929T190000
DTSTAMP:20260424T005037
CREATED:20190614T060102Z
LAST-MODIFIED:20190614T060102Z
UID:2601-1569776400-1569783600@www.evankeliset.net
SUMMARY:Helsinki\, Puistolan kirkko. Valonmessu
DESCRIPTION:
URL:https://www.evankeliset.net/tapahtuma/helsinki-puistolan-kirkko-valonmessu/
END:VEVENT
END:VCALENDAR