BEGIN:VCALENDAR
VERSION:2.0
PRODID:-//Evankelinen lähetysyhdistys ELY ry - ECPv6.15.18//NONSGML v1.0//EN
CALSCALE:GREGORIAN
METHOD:PUBLISH
X-WR-CALNAME:Evankelinen lähetysyhdistys ELY ry
X-ORIGINAL-URL:https://www.evankeliset.net
X-WR-CALDESC:Tapahtumat Evankelinen lähetysyhdistys ELY ry
REFRESH-INTERVAL;VALUE=DURATION:PT1H
X-Robots-Tag:noindex
X-PUBLISHED-TTL:PT1H
BEGIN:VTIMEZONE
TZID:Europe/Helsinki
BEGIN:DAYLIGHT
TZOFFSETFROM:+0200
TZOFFSETTO:+0300
TZNAME:EEST
DTSTART:20180325T010000
END:DAYLIGHT
BEGIN:STANDARD
TZOFFSETFROM:+0300
TZOFFSETTO:+0200
TZNAME:EET
DTSTART:20181028T010000
END:STANDARD
BEGIN:DAYLIGHT
TZOFFSETFROM:+0200
TZOFFSETTO:+0300
TZNAME:EEST
DTSTART:20190331T010000
END:DAYLIGHT
BEGIN:STANDARD
TZOFFSETFROM:+0300
TZOFFSETTO:+0200
TZNAME:EET
DTSTART:20191027T010000
END:STANDARD
BEGIN:DAYLIGHT
TZOFFSETFROM:+0200
TZOFFSETTO:+0300
TZNAME:EEST
DTSTART:20200329T010000
END:DAYLIGHT
BEGIN:STANDARD
TZOFFSETFROM:+0300
TZOFFSETTO:+0200
TZNAME:EET
DTSTART:20201025T010000
END:STANDARD
END:VTIMEZONE
BEGIN:VEVENT
DTSTART;TZID=Europe/Helsinki:20191025T200000
DTEND;TZID=Europe/Helsinki:20191102T060000
DTSTAMP:20260422T072740
CREATED:20190614T062211Z
LAST-MODIFIED:20190614T062211Z
UID:2629-1572033600-1572674400@www.evankeliset.net
SUMMARY:Israelin matka
DESCRIPTION:
URL:https://www.evankeliset.net/tapahtuma/israelin-matka-2/
END:VEVENT
BEGIN:VEVENT
DTSTART;TZID=Europe/Helsinki:20191031T180000
DTEND;TZID=Europe/Helsinki:20191031T200000
DTSTAMP:20260422T072740
CREATED:20190121T193228Z
LAST-MODIFIED:20190629T110342Z
UID:2111-1572544800-1572552000@www.evankeliset.net
SUMMARY:Evijärvi\, raamattuluento
DESCRIPTION:
URL:https://www.evankeliset.net/tapahtuma/evijarvi-raamattuluento-4/
END:VEVENT
BEGIN:VEVENT
DTSTART;TZID=Europe/Helsinki:20191031T180000
DTEND;TZID=Europe/Helsinki:20191031T200000
DTSTAMP:20260422T072740
CREATED:20190911T091803Z
LAST-MODIFIED:20190911T091803Z
UID:2902-1572544800-1572552000@www.evankeliset.net
SUMMARY:Hamina\, Hyvässä seurassa Mooseksen jalanjäljissä
DESCRIPTION:
URL:https://www.evankeliset.net/tapahtuma/hamina-hyvassa-seurassa-mooseksen-jalanjaljissa/
END:VEVENT
END:VCALENDAR