BEGIN:VCALENDAR
VERSION:2.0
PRODID:-//Evankelinen lähetysyhdistys ELY ry - ECPv6.15.18//NONSGML v1.0//EN
CALSCALE:GREGORIAN
METHOD:PUBLISH
X-ORIGINAL-URL:https://www.evankeliset.net
X-WR-CALDESC:Tapahtumat Evankelinen lähetysyhdistys ELY ry
REFRESH-INTERVAL;VALUE=DURATION:PT1H
X-Robots-Tag:noindex
X-PUBLISHED-TTL:PT1H
BEGIN:VTIMEZONE
TZID:Europe/Helsinki
BEGIN:DAYLIGHT
TZOFFSETFROM:+0200
TZOFFSETTO:+0300
TZNAME:EEST
DTSTART:20190331T010000
END:DAYLIGHT
BEGIN:STANDARD
TZOFFSETFROM:+0300
TZOFFSETTO:+0200
TZNAME:EET
DTSTART:20191027T010000
END:STANDARD
BEGIN:DAYLIGHT
TZOFFSETFROM:+0200
TZOFFSETTO:+0300
TZNAME:EEST
DTSTART:20200329T010000
END:DAYLIGHT
BEGIN:STANDARD
TZOFFSETFROM:+0300
TZOFFSETTO:+0200
TZNAME:EET
DTSTART:20201025T010000
END:STANDARD
BEGIN:DAYLIGHT
TZOFFSETFROM:+0200
TZOFFSETTO:+0300
TZNAME:EEST
DTSTART:20210328T010000
END:DAYLIGHT
BEGIN:STANDARD
TZOFFSETFROM:+0300
TZOFFSETTO:+0200
TZNAME:EET
DTSTART:20211031T010000
END:STANDARD
END:VTIMEZONE
BEGIN:VEVENT
DTSTART;TZID=Europe/Helsinki:20201119T180000
DTEND;TZID=Europe/Helsinki:20201119T200000
DTSTAMP:20260423T051403
CREATED:20200821T125619Z
LAST-MODIFIED:20201102T075157Z
UID:4226-1605808800-1605816000@www.evankeliset.net
SUMMARY:Sulkava\, Valoa kaamokseen-ilta
DESCRIPTION:
URL:https://www.evankeliset.net/tapahtuma/sulkava-naisten-ilta-2/
END:VEVENT
BEGIN:VEVENT
DTSTART;TZID=Europe/Helsinki:20201119T180000
DTEND;TZID=Europe/Helsinki:20201119T200000
DTSTAMP:20260423T051403
CREATED:20200925T050750Z
LAST-MODIFIED:20200925T050750Z
UID:4361-1605808800-1605816000@www.evankeliset.net
SUMMARY:Evijärvi\, Kohti joulua- lauluseurat
DESCRIPTION:
URL:https://www.evankeliset.net/tapahtuma/evijarvi-kohti-joulua-lauluseurat/
END:VEVENT
END:VCALENDAR