BEGIN:VCALENDAR
VERSION:2.0
PRODID:-//Evankelinen lähetysyhdistys ELY ry - ECPv6.15.18//NONSGML v1.0//EN
CALSCALE:GREGORIAN
METHOD:PUBLISH
X-WR-CALNAME:Evankelinen lähetysyhdistys ELY ry
X-ORIGINAL-URL:https://www.evankeliset.net
X-WR-CALDESC:Tapahtumat Evankelinen lähetysyhdistys ELY ry
REFRESH-INTERVAL;VALUE=DURATION:PT1H
X-Robots-Tag:noindex
X-PUBLISHED-TTL:PT1H
BEGIN:VTIMEZONE
TZID:Europe/Helsinki
BEGIN:DAYLIGHT
TZOFFSETFROM:+0200
TZOFFSETTO:+0300
TZNAME:EEST
DTSTART:20190331T010000
END:DAYLIGHT
BEGIN:STANDARD
TZOFFSETFROM:+0300
TZOFFSETTO:+0200
TZNAME:EET
DTSTART:20191027T010000
END:STANDARD
BEGIN:DAYLIGHT
TZOFFSETFROM:+0200
TZOFFSETTO:+0300
TZNAME:EEST
DTSTART:20200329T010000
END:DAYLIGHT
BEGIN:STANDARD
TZOFFSETFROM:+0300
TZOFFSETTO:+0200
TZNAME:EET
DTSTART:20201025T010000
END:STANDARD
BEGIN:DAYLIGHT
TZOFFSETFROM:+0200
TZOFFSETTO:+0300
TZNAME:EEST
DTSTART:20210328T010000
END:DAYLIGHT
BEGIN:STANDARD
TZOFFSETFROM:+0300
TZOFFSETTO:+0200
TZNAME:EET
DTSTART:20211031T010000
END:STANDARD
END:VTIMEZONE
BEGIN:VEVENT
DTSTART;TZID=Europe/Helsinki:20201122T100000
DTEND;TZID=Europe/Helsinki:20201122T130000
DTSTAMP:20260423T054359
CREATED:20200821T125738Z
LAST-MODIFIED:20200821T125738Z
UID:4228-1606039200-1606050000@www.evankeliset.net
SUMMARY:Sulkava\, Messu
DESCRIPTION:
URL:https://www.evankeliset.net/tapahtuma/sulkava-messu/
END:VEVENT
BEGIN:VEVENT
DTSTART;TZID=Europe/Helsinki:20201122T100000
DTEND;TZID=Europe/Helsinki:20201122T140000
DTSTAMP:20260423T054359
CREATED:20200512T060910Z
LAST-MODIFIED:20201117T093733Z
UID:3829-1606039200-1606053600@www.evankeliset.net
SUMMARY:Kauhajoki\, Elyn kirkkopyhä ja Maria-runoesitys
DESCRIPTION:  \n\n\n \nWhat do you want to do ?\nNew mailCopy
URL:https://www.evankeliset.net/tapahtuma/kauhajoki-elyn-kirkkopyha-ja-maria-runoesitys-2/
END:VEVENT
BEGIN:VEVENT
DTSTART;TZID=Europe/Helsinki:20201122T100000
DTEND;TZID=Europe/Helsinki:20201122T140000
DTSTAMP:20260423T054359
CREATED:20200820T110050Z
LAST-MODIFIED:20200820T110050Z
UID:4189-1606039200-1606053600@www.evankeliset.net
SUMMARY:Riihimäki\, Elyn kirkkopyhä
DESCRIPTION:
URL:https://www.evankeliset.net/tapahtuma/riihimaki-elyn-kirkkopyha-3/
END:VEVENT
BEGIN:VEVENT
DTSTART;TZID=Europe/Helsinki:20201122T150000
DTEND;TZID=Europe/Helsinki:20201122T170000
DTSTAMP:20260423T054359
CREATED:20200624T073540Z
LAST-MODIFIED:20201116T122900Z
UID:4067-1606057200-1606064400@www.evankeliset.net
SUMMARY:Seinäjoki\, Siionin kannel seurat
DESCRIPTION:
URL:https://www.evankeliset.net/tapahtuma/seinajoki-siionin-kannel-seurat-4/
END:VEVENT
END:VCALENDAR