BEGIN:VCALENDAR
VERSION:2.0
PRODID:-//Evankelinen lähetysyhdistys ELY ry - ECPv6.15.18//NONSGML v1.0//EN
CALSCALE:GREGORIAN
METHOD:PUBLISH
X-WR-CALNAME:Evankelinen lähetysyhdistys ELY ry
X-ORIGINAL-URL:https://www.evankeliset.net
X-WR-CALDESC:Tapahtumat Evankelinen lähetysyhdistys ELY ry
REFRESH-INTERVAL;VALUE=DURATION:PT1H
X-Robots-Tag:noindex
X-PUBLISHED-TTL:PT1H
BEGIN:VTIMEZONE
TZID:Europe/Helsinki
BEGIN:DAYLIGHT
TZOFFSETFROM:+0200
TZOFFSETTO:+0300
TZNAME:EEST
DTSTART:20200329T010000
END:DAYLIGHT
BEGIN:STANDARD
TZOFFSETFROM:+0300
TZOFFSETTO:+0200
TZNAME:EET
DTSTART:20201025T010000
END:STANDARD
BEGIN:DAYLIGHT
TZOFFSETFROM:+0200
TZOFFSETTO:+0300
TZNAME:EEST
DTSTART:20210328T010000
END:DAYLIGHT
BEGIN:STANDARD
TZOFFSETFROM:+0300
TZOFFSETTO:+0200
TZNAME:EET
DTSTART:20211031T010000
END:STANDARD
BEGIN:DAYLIGHT
TZOFFSETFROM:+0200
TZOFFSETTO:+0300
TZNAME:EEST
DTSTART:20220327T010000
END:DAYLIGHT
BEGIN:STANDARD
TZOFFSETFROM:+0300
TZOFFSETTO:+0200
TZNAME:EET
DTSTART:20221030T010000
END:STANDARD
END:VTIMEZONE
BEGIN:VEVENT
DTSTART;TZID=Europe/Helsinki:20210321T100000
DTEND;TZID=Europe/Helsinki:20210321T130000
DTSTAMP:20260423T023433
CREATED:20201118T114721Z
LAST-MODIFIED:20210307T104439Z
UID:4635-1616320800-1616331600@www.evankeliset.net
SUMMARY:Peräseinäjoki\, Elyn kirkkopyhä
DESCRIPTION:
URL:https://www.evankeliset.net/tapahtuma/peraseinajoki-elyn-kirkkopyha-2/
CATEGORIES:Tilaisuudet netissä
END:VEVENT
BEGIN:VEVENT
DTSTART;TZID=Europe/Helsinki:20210321T130000
DTEND;TZID=Europe/Helsinki:20210321T140000
DTSTAMP:20260423T023433
CREATED:20201116T141122Z
LAST-MODIFIED:20210308T115706Z
UID:4591-1616331600-1616335200@www.evankeliset.net
SUMMARY:STRIIMI\, Lapua\, Naistenpäivä
DESCRIPTION:
URL:https://www.evankeliset.net/tapahtuma/lapua-naistenpaiva/
CATEGORIES:Tilaisuudet netissä
END:VEVENT
BEGIN:VEVENT
DTSTART;TZID=Europe/Helsinki:20210321T180000
DTEND;TZID=Europe/Helsinki:20210321T200000
DTSTAMP:20260423T023433
CREATED:20210114T111237Z
LAST-MODIFIED:20210114T111237Z
UID:4997-1616349600-1616356800@www.evankeliset.net
SUMMARY:Hyvinkää\, Sanan ja laulun ilta
DESCRIPTION:
URL:https://www.evankeliset.net/tapahtuma/hyvinkaa-sanan-ja-laulun-ilta-2/
END:VEVENT
END:VCALENDAR