BEGIN:VCALENDAR
VERSION:2.0
PRODID:-//Evankelinen lähetysyhdistys ELY ry - ECPv6.15.18//NONSGML v1.0//EN
CALSCALE:GREGORIAN
METHOD:PUBLISH
X-WR-CALNAME:Evankelinen lähetysyhdistys ELY ry
X-ORIGINAL-URL:https://www.evankeliset.net
X-WR-CALDESC:Tapahtumat Evankelinen lähetysyhdistys ELY ry
REFRESH-INTERVAL;VALUE=DURATION:PT1H
X-Robots-Tag:noindex
X-PUBLISHED-TTL:PT1H
BEGIN:VTIMEZONE
TZID:Europe/Helsinki
BEGIN:DAYLIGHT
TZOFFSETFROM:+0200
TZOFFSETTO:+0300
TZNAME:EEST
DTSTART:20200329T010000
END:DAYLIGHT
BEGIN:STANDARD
TZOFFSETFROM:+0300
TZOFFSETTO:+0200
TZNAME:EET
DTSTART:20201025T010000
END:STANDARD
BEGIN:DAYLIGHT
TZOFFSETFROM:+0200
TZOFFSETTO:+0300
TZNAME:EEST
DTSTART:20210328T010000
END:DAYLIGHT
BEGIN:STANDARD
TZOFFSETFROM:+0300
TZOFFSETTO:+0200
TZNAME:EET
DTSTART:20211031T010000
END:STANDARD
BEGIN:DAYLIGHT
TZOFFSETFROM:+0200
TZOFFSETTO:+0300
TZNAME:EEST
DTSTART:20220327T010000
END:DAYLIGHT
BEGIN:STANDARD
TZOFFSETFROM:+0300
TZOFFSETTO:+0200
TZNAME:EET
DTSTART:20221030T010000
END:STANDARD
END:VTIMEZONE
BEGIN:VEVENT
DTSTART;TZID=Europe/Helsinki:20210516T100000
DTEND;TZID=Europe/Helsinki:20210516T110000
DTSTAMP:20260423T024752
CREATED:20210507T043740Z
LAST-MODIFIED:20210507T043740Z
UID:5488-1621159200-1621162800@www.evankeliset.net
SUMMARY:Striimi: Pitäjänmäen srk\, messu
DESCRIPTION:
URL:https://www.evankeliset.net/tapahtuma/striimi-pitajanmaen-srk-messu/
CATEGORIES:Tilaisuudet netissä
END:VEVENT
BEGIN:VEVENT
DTSTART;TZID=Europe/Helsinki:20210516T100000
DTEND;TZID=Europe/Helsinki:20210516T140000
DTSTAMP:20260423T024752
CREATED:20210326T121030Z
LAST-MODIFIED:20210506T063148Z
UID:5307-1621159200-1621173600@www.evankeliset.net
SUMMARY:Ylivieska\, Elyn kirkkopyhä
DESCRIPTION:
URL:https://www.evankeliset.net/tapahtuma/ylivieska-elyn-kirkkopyha/
CATEGORIES:Tilaisuudet netissä
END:VEVENT
BEGIN:VEVENT
DTSTART;TZID=Europe/Helsinki:20210516T180000
DTEND;TZID=Europe/Helsinki:20210516T200000
DTSTAMP:20260423T024752
CREATED:20201116T141813Z
LAST-MODIFIED:20210429T055433Z
UID:4599-1621188000-1621195200@www.evankeliset.net
SUMMARY:Seinäjoki\, Kevätkirkko
DESCRIPTION:
URL:https://www.evankeliset.net/tapahtuma/seinajoki-kevatkirkko-2/
END:VEVENT
END:VCALENDAR