BEGIN:VCALENDAR
VERSION:2.0
PRODID:-//Evankelinen lähetysyhdistys ELY ry - ECPv6.15.18//NONSGML v1.0//EN
CALSCALE:GREGORIAN
METHOD:PUBLISH
X-WR-CALNAME:Evankelinen lähetysyhdistys ELY ry
X-ORIGINAL-URL:https://www.evankeliset.net
X-WR-CALDESC:Tapahtumat Evankelinen lähetysyhdistys ELY ry
REFRESH-INTERVAL;VALUE=DURATION:PT1H
X-Robots-Tag:noindex
X-PUBLISHED-TTL:PT1H
BEGIN:VTIMEZONE
TZID:Europe/Helsinki
BEGIN:DAYLIGHT
TZOFFSETFROM:+0200
TZOFFSETTO:+0300
TZNAME:EEST
DTSTART:20200329T010000
END:DAYLIGHT
BEGIN:STANDARD
TZOFFSETFROM:+0300
TZOFFSETTO:+0200
TZNAME:EET
DTSTART:20201025T010000
END:STANDARD
BEGIN:DAYLIGHT
TZOFFSETFROM:+0200
TZOFFSETTO:+0300
TZNAME:EEST
DTSTART:20210328T010000
END:DAYLIGHT
BEGIN:STANDARD
TZOFFSETFROM:+0300
TZOFFSETTO:+0200
TZNAME:EET
DTSTART:20211031T010000
END:STANDARD
BEGIN:DAYLIGHT
TZOFFSETFROM:+0200
TZOFFSETTO:+0300
TZNAME:EEST
DTSTART:20220327T010000
END:DAYLIGHT
BEGIN:STANDARD
TZOFFSETFROM:+0300
TZOFFSETTO:+0200
TZNAME:EET
DTSTART:20221030T010000
END:STANDARD
END:VTIMEZONE
BEGIN:VEVENT
DTSTART;TZID=Europe/Helsinki:20210608T180000
DTEND;TZID=Europe/Helsinki:20210608T193000
DTSTAMP:20260423T025135
CREATED:20210608T054350Z
LAST-MODIFIED:20210608T054350Z
UID:5630-1623175200-1623180600@www.evankeliset.net
SUMMARY:Hamina\, lähetysilta
DESCRIPTION:
URL:https://www.evankeliset.net/tapahtuma/hamina-lahetysilta/
END:VEVENT
BEGIN:VEVENT
DTSTART;TZID=Europe/Helsinki:20210608T180000
DTEND;TZID=Europe/Helsinki:20210608T200000
DTSTAMP:20260423T025135
CREATED:20210507T163812Z
LAST-MODIFIED:20210507T163812Z
UID:5504-1623175200-1623182400@www.evankeliset.net
SUMMARY:Himanka\, Kesäseurat
DESCRIPTION:
URL:https://www.evankeliset.net/tapahtuma/himanka-kesaseurat-2/
END:VEVENT
END:VCALENDAR