BEGIN:VCALENDAR
VERSION:2.0
PRODID:-//Evankelinen lähetysyhdistys ELY ry - ECPv6.15.18//NONSGML v1.0//EN
CALSCALE:GREGORIAN
METHOD:PUBLISH
X-WR-CALNAME:Evankelinen lähetysyhdistys ELY ry
X-ORIGINAL-URL:https://www.evankeliset.net
X-WR-CALDESC:Tapahtumat Evankelinen lähetysyhdistys ELY ry
REFRESH-INTERVAL;VALUE=DURATION:PT1H
X-Robots-Tag:noindex
X-PUBLISHED-TTL:PT1H
BEGIN:VTIMEZONE
TZID:Europe/Helsinki
BEGIN:DAYLIGHT
TZOFFSETFROM:+0200
TZOFFSETTO:+0300
TZNAME:EEST
DTSTART:20200329T010000
END:DAYLIGHT
BEGIN:STANDARD
TZOFFSETFROM:+0300
TZOFFSETTO:+0200
TZNAME:EET
DTSTART:20201025T010000
END:STANDARD
BEGIN:DAYLIGHT
TZOFFSETFROM:+0200
TZOFFSETTO:+0300
TZNAME:EEST
DTSTART:20210328T010000
END:DAYLIGHT
BEGIN:STANDARD
TZOFFSETFROM:+0300
TZOFFSETTO:+0200
TZNAME:EET
DTSTART:20211031T010000
END:STANDARD
BEGIN:DAYLIGHT
TZOFFSETFROM:+0200
TZOFFSETTO:+0300
TZNAME:EEST
DTSTART:20220327T010000
END:DAYLIGHT
BEGIN:STANDARD
TZOFFSETFROM:+0300
TZOFFSETTO:+0200
TZNAME:EET
DTSTART:20221030T010000
END:STANDARD
END:VTIMEZONE
BEGIN:VEVENT
DTSTART;TZID=Europe/Helsinki:20210926T100000
DTEND;TZID=Europe/Helsinki:20210926T113000
DTSTAMP:20260424T165531
CREATED:20210422T092318Z
LAST-MODIFIED:20210908T093854Z
UID:5397-1632650400-1632655800@www.evankeliset.net
SUMMARY:Teuva\, Elyn kirkkopyhä
DESCRIPTION:
URL:https://www.evankeliset.net/tapahtuma/teuva-elyn-kirkkopyha-3/
END:VEVENT
BEGIN:VEVENT
DTSTART;TZID=Europe/Helsinki:20210926T100000
DTEND;TZID=Europe/Helsinki:20210926T130000
DTSTAMP:20260424T165531
CREATED:20210906T123637Z
LAST-MODIFIED:20210906T123637Z
UID:5901-1632650400-1632661200@www.evankeliset.net
SUMMARY:Joutseno\, ELYn kirkkopyhä
DESCRIPTION:
URL:https://www.evankeliset.net/tapahtuma/joutseno-elyn-kirkkopyha/
END:VEVENT
BEGIN:VEVENT
DTSTART;TZID=Europe/Helsinki:20210926T100000
DTEND;TZID=Europe/Helsinki:20210926T140000
DTSTAMP:20260424T165531
CREATED:20201121T090649Z
LAST-MODIFIED:20210917T080053Z
UID:4719-1632650400-1632664800@www.evankeliset.net
SUMMARY:Kortesjärvi\, Elyn kirkkopyhä
DESCRIPTION:
URL:https://www.evankeliset.net/tapahtuma/kortesjarvi-elyn-kirkkopyha-2/
END:VEVENT
BEGIN:VEVENT
DTSTART;TZID=Europe/Helsinki:20210926T100000
DTEND;TZID=Europe/Helsinki:20210926T140000
DTSTAMP:20260424T165531
CREATED:20201121T090755Z
LAST-MODIFIED:20201121T090755Z
UID:4721-1632650400-1632664800@www.evankeliset.net
SUMMARY:Sievi\, Elyn kirkkopyhä
DESCRIPTION:
URL:https://www.evankeliset.net/tapahtuma/sievi-elyn-kirkkopyha/
END:VEVENT
BEGIN:VEVENT
DTSTART;TZID=Europe/Helsinki:20210926T100000
DTEND;TZID=Europe/Helsinki:20210926T140000
DTSTAMP:20260424T165531
CREATED:20210528T062746Z
LAST-MODIFIED:20210528T065151Z
UID:5549-1632650400-1632664800@www.evankeliset.net
SUMMARY:Nurmo\, Elyn kirkkopyhä
DESCRIPTION:
URL:https://www.evankeliset.net/tapahtuma/nurmo-elyn-kirkkopyha-2/
END:VEVENT
END:VCALENDAR