BEGIN:VCALENDAR
VERSION:2.0
PRODID:-//Evankelinen lähetysyhdistys ELY ry - ECPv6.15.18//NONSGML v1.0//EN
CALSCALE:GREGORIAN
METHOD:PUBLISH
X-ORIGINAL-URL:https://www.evankeliset.net
X-WR-CALDESC:Tapahtumat Evankelinen lähetysyhdistys ELY ry
REFRESH-INTERVAL;VALUE=DURATION:PT1H
X-Robots-Tag:noindex
X-PUBLISHED-TTL:PT1H
BEGIN:VTIMEZONE
TZID:Europe/Helsinki
BEGIN:DAYLIGHT
TZOFFSETFROM:+0200
TZOFFSETTO:+0300
TZNAME:EEST
DTSTART:20200329T010000
END:DAYLIGHT
BEGIN:STANDARD
TZOFFSETFROM:+0300
TZOFFSETTO:+0200
TZNAME:EET
DTSTART:20201025T010000
END:STANDARD
BEGIN:DAYLIGHT
TZOFFSETFROM:+0200
TZOFFSETTO:+0300
TZNAME:EEST
DTSTART:20210328T010000
END:DAYLIGHT
BEGIN:STANDARD
TZOFFSETFROM:+0300
TZOFFSETTO:+0200
TZNAME:EET
DTSTART:20211031T010000
END:STANDARD
BEGIN:DAYLIGHT
TZOFFSETFROM:+0200
TZOFFSETTO:+0300
TZNAME:EEST
DTSTART:20220327T010000
END:DAYLIGHT
BEGIN:STANDARD
TZOFFSETFROM:+0300
TZOFFSETTO:+0200
TZNAME:EET
DTSTART:20221030T010000
END:STANDARD
END:VTIMEZONE
BEGIN:VEVENT
DTSTART;TZID=Europe/Helsinki:20211013T133000
DTEND;TZID=Europe/Helsinki:20211013T150000
DTSTAMP:20260422T141548
CREATED:20210409T073918Z
LAST-MODIFIED:20210409T073918Z
UID:5355-1634131800-1634137200@www.evankeliset.net
SUMMARY:Kokkola\, päiväkahvitilaisuus
DESCRIPTION:
URL:https://www.evankeliset.net/tapahtuma/kokkola-paivakahvitilaisuus-6/
END:VEVENT
BEGIN:VEVENT
DTSTART;TZID=Europe/Helsinki:20211013T180000
DTEND;TZID=Europe/Helsinki:20211013T200000
DTSTAMP:20260422T141548
CREATED:20210820T094637Z
LAST-MODIFIED:20210820T094637Z
UID:5767-1634148000-1634155200@www.evankeliset.net
SUMMARY:Salo\, Siionin kannel -seurat
DESCRIPTION:
URL:https://www.evankeliset.net/tapahtuma/salo-siionin-kannel-seurat-13/
END:VEVENT
BEGIN:VEVENT
DTSTART;TZID=Europe/Helsinki:20211013T180000
DTEND;TZID=Europe/Helsinki:20211013T210000
DTSTAMP:20260422T141548
CREATED:20210910T074332Z
LAST-MODIFIED:20210910T074407Z
UID:5930-1634148000-1634158800@www.evankeliset.net
SUMMARY:Kouvola\, Puhjonranta\, miesten saunailta
DESCRIPTION:
URL:https://www.evankeliset.net/tapahtuma/kouvola-puhjonranta-miesten-saunailta/
END:VEVENT
END:VCALENDAR