BEGIN:VCALENDAR
VERSION:2.0
PRODID:-//Evankelinen lähetysyhdistys ELY ry - ECPv6.15.18//NONSGML v1.0//EN
CALSCALE:GREGORIAN
METHOD:PUBLISH
X-WR-CALNAME:Evankelinen lähetysyhdistys ELY ry
X-ORIGINAL-URL:https://www.evankeliset.net
X-WR-CALDESC:Tapahtumat Evankelinen lähetysyhdistys ELY ry
REFRESH-INTERVAL;VALUE=DURATION:PT1H
X-Robots-Tag:noindex
X-PUBLISHED-TTL:PT1H
BEGIN:VTIMEZONE
TZID:Europe/Helsinki
BEGIN:DAYLIGHT
TZOFFSETFROM:+0200
TZOFFSETTO:+0300
TZNAME:EEST
DTSTART:20200329T010000
END:DAYLIGHT
BEGIN:STANDARD
TZOFFSETFROM:+0300
TZOFFSETTO:+0200
TZNAME:EET
DTSTART:20201025T010000
END:STANDARD
BEGIN:DAYLIGHT
TZOFFSETFROM:+0200
TZOFFSETTO:+0300
TZNAME:EEST
DTSTART:20210328T010000
END:DAYLIGHT
BEGIN:STANDARD
TZOFFSETFROM:+0300
TZOFFSETTO:+0200
TZNAME:EET
DTSTART:20211031T010000
END:STANDARD
BEGIN:DAYLIGHT
TZOFFSETFROM:+0200
TZOFFSETTO:+0300
TZNAME:EEST
DTSTART:20220327T010000
END:DAYLIGHT
BEGIN:STANDARD
TZOFFSETFROM:+0300
TZOFFSETTO:+0200
TZNAME:EET
DTSTART:20221030T010000
END:STANDARD
END:VTIMEZONE
BEGIN:VEVENT
DTSTART;TZID=Europe/Helsinki:20211205T100000
DTEND;TZID=Europe/Helsinki:20211205T130000
DTSTAMP:20260424T161542
CREATED:20210804T082831Z
LAST-MODIFIED:20210804T082831Z
UID:5693-1638698400-1638709200@www.evankeliset.net
SUMMARY:Riihimäki\, Elyn kirkkopyhä
DESCRIPTION:
URL:https://www.evankeliset.net/tapahtuma/riihimaki-elyn-kirkkopyha-4/
END:VEVENT
BEGIN:VEVENT
DTSTART;TZID=Europe/Helsinki:20211205T100000
DTEND;TZID=Europe/Helsinki:20211205T130000
DTSTAMP:20260424T161542
CREATED:20211129T075019Z
LAST-MODIFIED:20211129T075019Z
UID:6315-1638698400-1638709200@www.evankeliset.net
SUMMARY:Joensuu\, Pielisensuun kirkko\, ELYn kirkkopyhä
DESCRIPTION:
URL:https://www.evankeliset.net/tapahtuma/joensuu-pielisensuun-kirkko-elyn-kirkkopyha/
END:VEVENT
BEGIN:VEVENT
DTSTART;TZID=Europe/Helsinki:20211205T100000
DTEND;TZID=Europe/Helsinki:20211205T140000
DTSTAMP:20260424T161542
CREATED:20210317T122946Z
LAST-MODIFIED:20211111T100852Z
UID:5268-1638698400-1638712800@www.evankeliset.net
SUMMARY:Lapua\, Elyn kirkkopyhä
DESCRIPTION:
URL:https://www.evankeliset.net/tapahtuma/lapua-elyn-kirkkopyha/
END:VEVENT
BEGIN:VEVENT
DTSTART;TZID=Europe/Helsinki:20211205T100000
DTEND;TZID=Europe/Helsinki:20211205T140000
DTSTAMP:20260424T161542
CREATED:20211117T080245Z
LAST-MODIFIED:20211117T080245Z
UID:6274-1638698400-1638712800@www.evankeliset.net
SUMMARY:Pornainen\, Elyn kirkkopyhä
DESCRIPTION:
URL:https://www.evankeliset.net/tapahtuma/pornainen-elyn-kirkkopyha/
END:VEVENT
BEGIN:VEVENT
DTSTART;TZID=Europe/Helsinki:20211205T170000
DTEND;TZID=Europe/Helsinki:20211205T190000
DTSTAMP:20260424T161542
CREATED:20211008T042124Z
LAST-MODIFIED:20211008T042124Z
UID:6065-1638723600-1638730800@www.evankeliset.net
SUMMARY:Tampere\, Joululauluseurat
DESCRIPTION:
URL:https://www.evankeliset.net/tapahtuma/tampere-joululauluseurat/
END:VEVENT
END:VCALENDAR