BEGIN:VCALENDAR
VERSION:2.0
PRODID:-//Evankelinen lähetysyhdistys ELY ry - ECPv6.15.18//NONSGML v1.0//EN
CALSCALE:GREGORIAN
METHOD:PUBLISH
X-WR-CALNAME:Evankelinen lähetysyhdistys ELY ry
X-ORIGINAL-URL:https://www.evankeliset.net
X-WR-CALDESC:Tapahtumat Evankelinen lähetysyhdistys ELY ry
REFRESH-INTERVAL;VALUE=DURATION:PT1H
X-Robots-Tag:noindex
X-PUBLISHED-TTL:PT1H
BEGIN:VTIMEZONE
TZID:Europe/Helsinki
BEGIN:DAYLIGHT
TZOFFSETFROM:+0200
TZOFFSETTO:+0300
TZNAME:EEST
DTSTART:20200329T010000
END:DAYLIGHT
BEGIN:STANDARD
TZOFFSETFROM:+0300
TZOFFSETTO:+0200
TZNAME:EET
DTSTART:20201025T010000
END:STANDARD
BEGIN:DAYLIGHT
TZOFFSETFROM:+0200
TZOFFSETTO:+0300
TZNAME:EEST
DTSTART:20210328T010000
END:DAYLIGHT
BEGIN:STANDARD
TZOFFSETFROM:+0300
TZOFFSETTO:+0200
TZNAME:EET
DTSTART:20211031T010000
END:STANDARD
BEGIN:DAYLIGHT
TZOFFSETFROM:+0200
TZOFFSETTO:+0300
TZNAME:EEST
DTSTART:20220327T010000
END:DAYLIGHT
BEGIN:STANDARD
TZOFFSETFROM:+0300
TZOFFSETTO:+0200
TZNAME:EET
DTSTART:20221030T010000
END:STANDARD
END:VTIMEZONE
BEGIN:VEVENT
DTSTART;TZID=Europe/Helsinki:20211209T120000
DTEND;TZID=Europe/Helsinki:20211209T130000
DTSTAMP:20260424T161538
CREATED:20211014T092611Z
LAST-MODIFIED:20211111T101100Z
UID:6089-1639051200-1639054800@www.evankeliset.net
SUMMARY:Kokkola\, lauluhetki lähetyssopella
DESCRIPTION:
URL:https://www.evankeliset.net/tapahtuma/kokkola-lauluhetki-lahetyssopella/
END:VEVENT
BEGIN:VEVENT
DTSTART;TZID=Europe/Helsinki:20211209T180000
DTEND;TZID=Europe/Helsinki:20211209T190000
DTSTAMP:20260424T161538
CREATED:20211129T075330Z
LAST-MODIFIED:20211129T075330Z
UID:6319-1639072800-1639076400@www.evankeliset.net
SUMMARY:Sulkava\, Raamattuluento
DESCRIPTION:
URL:https://www.evankeliset.net/tapahtuma/sulkava-raamattuluento-35/
END:VEVENT
END:VCALENDAR