BEGIN:VCALENDAR
VERSION:2.0
PRODID:-//Evankelinen lähetysyhdistys ELY ry - ECPv6.15.18//NONSGML v1.0//EN
CALSCALE:GREGORIAN
METHOD:PUBLISH
X-ORIGINAL-URL:https://www.evankeliset.net
X-WR-CALDESC:Tapahtumat Evankelinen lähetysyhdistys ELY ry
REFRESH-INTERVAL;VALUE=DURATION:PT1H
X-Robots-Tag:noindex
X-PUBLISHED-TTL:PT1H
BEGIN:VTIMEZONE
TZID:Europe/Helsinki
BEGIN:DAYLIGHT
TZOFFSETFROM:+0200
TZOFFSETTO:+0300
TZNAME:EEST
DTSTART:20200329T010000
END:DAYLIGHT
BEGIN:STANDARD
TZOFFSETFROM:+0300
TZOFFSETTO:+0200
TZNAME:EET
DTSTART:20201025T010000
END:STANDARD
BEGIN:DAYLIGHT
TZOFFSETFROM:+0200
TZOFFSETTO:+0300
TZNAME:EEST
DTSTART:20210328T010000
END:DAYLIGHT
BEGIN:STANDARD
TZOFFSETFROM:+0300
TZOFFSETTO:+0200
TZNAME:EET
DTSTART:20211031T010000
END:STANDARD
BEGIN:DAYLIGHT
TZOFFSETFROM:+0200
TZOFFSETTO:+0300
TZNAME:EEST
DTSTART:20220327T010000
END:DAYLIGHT
BEGIN:STANDARD
TZOFFSETFROM:+0300
TZOFFSETTO:+0200
TZNAME:EET
DTSTART:20221030T010000
END:STANDARD
END:VTIMEZONE
BEGIN:VEVENT
DTSTART;TZID=Europe/Helsinki:20211211T110000
DTEND;TZID=Europe/Helsinki:20211212T150000
DTSTAMP:20260424T161515
CREATED:20211119T085235Z
LAST-MODIFIED:20211119T085235Z
UID:6291-1639220400-1639321200@www.evankeliset.net
SUMMARY:Kitee\, KEKO joulun tekstit Raamatussa
DESCRIPTION:
URL:https://www.evankeliset.net/tapahtuma/kitee-keko-joulun-tekstit-raamatussa/
END:VEVENT
BEGIN:VEVENT
DTSTART;TZID=Europe/Helsinki:20211212T100000
DTEND;TZID=Europe/Helsinki:20211212T113000
DTSTAMP:20260424T161515
CREATED:20211129T075441Z
LAST-MODIFIED:20211129T075441Z
UID:6321-1639303200-1639308600@www.evankeliset.net
SUMMARY:Sulkava\, messu
DESCRIPTION:
URL:https://www.evankeliset.net/tapahtuma/sulkava-messu-6/
END:VEVENT
BEGIN:VEVENT
DTSTART;TZID=Europe/Helsinki:20211212T100000
DTEND;TZID=Europe/Helsinki:20211212T140000
DTSTAMP:20260424T161515
CREATED:20210507T163531Z
LAST-MODIFIED:20211115T104659Z
UID:5502-1639303200-1639317600@www.evankeliset.net
SUMMARY:Himanka\, Elyn kirkkopyhä\, puurojuhla
DESCRIPTION:
URL:https://www.evankeliset.net/tapahtuma/elyn-kirkkopyha-joulujuhla/
END:VEVENT
BEGIN:VEVENT
DTSTART;TZID=Europe/Helsinki:20211212T120000
DTEND;TZID=Europe/Helsinki:20211212T150000
DTSTAMP:20260424T161515
CREATED:20210317T123218Z
LAST-MODIFIED:20211015T094954Z
UID:5271-1639310400-1639321200@www.evankeliset.net
SUMMARY:Seinäjoki\, maakunnallinen joulujuhla
DESCRIPTION:
URL:https://www.evankeliset.net/tapahtuma/seinajoki-maakunnallinen-joulujuhla-3/
END:VEVENT
END:VCALENDAR