BEGIN:VCALENDAR
VERSION:2.0
PRODID:-//Evankelinen lähetysyhdistys ELY ry - ECPv6.15.18//NONSGML v1.0//EN
CALSCALE:GREGORIAN
METHOD:PUBLISH
X-ORIGINAL-URL:https://www.evankeliset.net
X-WR-CALDESC:Tapahtumat Evankelinen lähetysyhdistys ELY ry
REFRESH-INTERVAL;VALUE=DURATION:PT1H
X-Robots-Tag:noindex
X-PUBLISHED-TTL:PT1H
BEGIN:VTIMEZONE
TZID:Europe/Helsinki
BEGIN:DAYLIGHT
TZOFFSETFROM:+0200
TZOFFSETTO:+0300
TZNAME:EEST
DTSTART:20210328T010000
END:DAYLIGHT
BEGIN:STANDARD
TZOFFSETFROM:+0300
TZOFFSETTO:+0200
TZNAME:EET
DTSTART:20211031T010000
END:STANDARD
BEGIN:DAYLIGHT
TZOFFSETFROM:+0200
TZOFFSETTO:+0300
TZNAME:EEST
DTSTART:20220327T010000
END:DAYLIGHT
BEGIN:STANDARD
TZOFFSETFROM:+0300
TZOFFSETTO:+0200
TZNAME:EET
DTSTART:20221030T010000
END:STANDARD
BEGIN:DAYLIGHT
TZOFFSETFROM:+0200
TZOFFSETTO:+0300
TZNAME:EEST
DTSTART:20230326T010000
END:DAYLIGHT
BEGIN:STANDARD
TZOFFSETFROM:+0300
TZOFFSETTO:+0200
TZNAME:EET
DTSTART:20231029T010000
END:STANDARD
END:VTIMEZONE
BEGIN:VEVENT
DTSTART;TZID=Europe/Helsinki:20220118T133000
DTEND;TZID=Europe/Helsinki:20220118T153000
DTSTAMP:20260424T174323
CREATED:20211119T100940Z
LAST-MODIFIED:20220110T154906Z
UID:6295-1642512600-1642519800@www.evankeliset.net
SUMMARY:Forssa\, Siionin kannel -seurat PERUTTU
DESCRIPTION:
URL:https://www.evankeliset.net/tapahtuma/forssa-ystavan-kammari/
END:VEVENT
BEGIN:VEVENT
DTSTART;TZID=Europe/Helsinki:20220118T180000
DTEND;TZID=Europe/Helsinki:20220118T193000
DTSTAMP:20260424T174324
CREATED:20220113T091312Z
LAST-MODIFIED:20220113T091312Z
UID:6456-1642528800-1642534200@www.evankeliset.net
SUMMARY:Savonlinna\, Raamattuluento
DESCRIPTION:
URL:https://www.evankeliset.net/tapahtuma/savonlinna-raamattuluento-22/
CATEGORIES:Tilaisuudet netissä
END:VEVENT
BEGIN:VEVENT
DTSTART;TZID=Europe/Helsinki:20220118T180000
DTEND;TZID=Europe/Helsinki:20220118T200000
DTSTAMP:20260424T174324
CREATED:20211014T093135Z
LAST-MODIFIED:20220110T172023Z
UID:6093-1642528800-1642536000@www.evankeliset.net
SUMMARY:Laihia\, Lähetysseurat
DESCRIPTION:
URL:https://www.evankeliset.net/tapahtuma/laihia-lahetysseurat-2/
CATEGORIES:Tilaisuudet netissä
END:VEVENT
END:VCALENDAR