BEGIN:VCALENDAR
VERSION:2.0
PRODID:-//Evankelinen lähetysyhdistys ELY ry - ECPv6.15.18//NONSGML v1.0//EN
CALSCALE:GREGORIAN
METHOD:PUBLISH
X-ORIGINAL-URL:https://www.evankeliset.net
X-WR-CALDESC:Tapahtumat Evankelinen lähetysyhdistys ELY ry
REFRESH-INTERVAL;VALUE=DURATION:PT1H
X-Robots-Tag:noindex
X-PUBLISHED-TTL:PT1H
BEGIN:VTIMEZONE
TZID:Europe/Helsinki
BEGIN:DAYLIGHT
TZOFFSETFROM:+0200
TZOFFSETTO:+0300
TZNAME:EEST
DTSTART:20210328T010000
END:DAYLIGHT
BEGIN:STANDARD
TZOFFSETFROM:+0300
TZOFFSETTO:+0200
TZNAME:EET
DTSTART:20211031T010000
END:STANDARD
BEGIN:DAYLIGHT
TZOFFSETFROM:+0200
TZOFFSETTO:+0300
TZNAME:EEST
DTSTART:20220327T010000
END:DAYLIGHT
BEGIN:STANDARD
TZOFFSETFROM:+0300
TZOFFSETTO:+0200
TZNAME:EET
DTSTART:20221030T010000
END:STANDARD
BEGIN:DAYLIGHT
TZOFFSETFROM:+0200
TZOFFSETTO:+0300
TZNAME:EEST
DTSTART:20230326T010000
END:DAYLIGHT
BEGIN:STANDARD
TZOFFSETFROM:+0300
TZOFFSETTO:+0200
TZNAME:EET
DTSTART:20231029T010000
END:STANDARD
END:VTIMEZONE
BEGIN:VEVENT
DTSTART;TZID=Europe/Helsinki:20220124T120000
DTEND;TZID=Europe/Helsinki:20220124T140000
DTSTAMP:20260424T174325
CREATED:20211014T093556Z
LAST-MODIFIED:20220110T171845Z
UID:6098-1643025600-1643032800@www.evankeliset.net
SUMMARY:Alajärvi\, Lähetystilaisuus
DESCRIPTION:
URL:https://www.evankeliset.net/tapahtuma/alajarvi-lahetystilaisuus/
END:VEVENT
BEGIN:VEVENT
DTSTART;TZID=Europe/Helsinki:20220124T130000
DTEND;TZID=Europe/Helsinki:20220124T150000
DTSTAMP:20260424T174325
CREATED:20220104T131247Z
LAST-MODIFIED:20220104T131247Z
UID:6424-1643029200-1643036400@www.evankeliset.net
SUMMARY:Hamina\, lähetystilaisuus
DESCRIPTION:
URL:https://www.evankeliset.net/tapahtuma/hamina-lahetystilaisuus/
END:VEVENT
END:VCALENDAR