BEGIN:VCALENDAR
VERSION:2.0
PRODID:-//Evankelinen lähetysyhdistys ELY ry - ECPv6.15.18//NONSGML v1.0//EN
CALSCALE:GREGORIAN
METHOD:PUBLISH
X-WR-CALNAME:Evankelinen lähetysyhdistys ELY ry
X-ORIGINAL-URL:https://www.evankeliset.net
X-WR-CALDESC:Tapahtumat Evankelinen lähetysyhdistys ELY ry
REFRESH-INTERVAL;VALUE=DURATION:PT1H
X-Robots-Tag:noindex
X-PUBLISHED-TTL:PT1H
BEGIN:VTIMEZONE
TZID:Europe/Helsinki
BEGIN:DAYLIGHT
TZOFFSETFROM:+0200
TZOFFSETTO:+0300
TZNAME:EEST
DTSTART:20210328T010000
END:DAYLIGHT
BEGIN:STANDARD
TZOFFSETFROM:+0300
TZOFFSETTO:+0200
TZNAME:EET
DTSTART:20211031T010000
END:STANDARD
BEGIN:DAYLIGHT
TZOFFSETFROM:+0200
TZOFFSETTO:+0300
TZNAME:EEST
DTSTART:20220327T010000
END:DAYLIGHT
BEGIN:STANDARD
TZOFFSETFROM:+0300
TZOFFSETTO:+0200
TZNAME:EET
DTSTART:20221030T010000
END:STANDARD
BEGIN:DAYLIGHT
TZOFFSETFROM:+0200
TZOFFSETTO:+0300
TZNAME:EEST
DTSTART:20230326T010000
END:DAYLIGHT
BEGIN:STANDARD
TZOFFSETFROM:+0300
TZOFFSETTO:+0200
TZNAME:EET
DTSTART:20231029T010000
END:STANDARD
END:VTIMEZONE
BEGIN:VEVENT
DTSTART;TZID=Europe/Helsinki:20220210T130000
DTEND;TZID=Europe/Helsinki:20220210T143000
DTSTAMP:20260424T170436
CREATED:20211111T103010Z
LAST-MODIFIED:20211111T103010Z
UID:6175-1644498000-1644503400@www.evankeliset.net
SUMMARY:Kauhajoki\, Siionin kannel seurat
DESCRIPTION:
URL:https://www.evankeliset.net/tapahtuma/kauhajoki-siionin-kannel-seurat-11/
END:VEVENT
BEGIN:VEVENT
DTSTART;TZID=Europe/Helsinki:20220210T180000
DTEND;TZID=Europe/Helsinki:20220210T193000
DTSTAMP:20260424T170436
CREATED:20220207T161333Z
LAST-MODIFIED:20220207T161333Z
UID:6531-1644516000-1644521400@www.evankeliset.net
SUMMARY:Sulkava\, Raamattuluento
DESCRIPTION:
URL:https://www.evankeliset.net/tapahtuma/sulkava-raamattuluento-37/
END:VEVENT
END:VCALENDAR