BEGIN:VCALENDAR
VERSION:2.0
PRODID:-//Evankelinen lähetysyhdistys ELY ry - ECPv6.15.18//NONSGML v1.0//EN
CALSCALE:GREGORIAN
METHOD:PUBLISH
X-WR-CALNAME:Evankelinen lähetysyhdistys ELY ry
X-ORIGINAL-URL:https://www.evankeliset.net
X-WR-CALDESC:Tapahtumat Evankelinen lähetysyhdistys ELY ry
REFRESH-INTERVAL;VALUE=DURATION:PT1H
X-Robots-Tag:noindex
X-PUBLISHED-TTL:PT1H
BEGIN:VTIMEZONE
TZID:Europe/Helsinki
BEGIN:DAYLIGHT
TZOFFSETFROM:+0200
TZOFFSETTO:+0300
TZNAME:EEST
DTSTART:20210328T010000
END:DAYLIGHT
BEGIN:STANDARD
TZOFFSETFROM:+0300
TZOFFSETTO:+0200
TZNAME:EET
DTSTART:20211031T010000
END:STANDARD
BEGIN:DAYLIGHT
TZOFFSETFROM:+0200
TZOFFSETTO:+0300
TZNAME:EEST
DTSTART:20220327T010000
END:DAYLIGHT
BEGIN:STANDARD
TZOFFSETFROM:+0300
TZOFFSETTO:+0200
TZNAME:EET
DTSTART:20221030T010000
END:STANDARD
BEGIN:DAYLIGHT
TZOFFSETFROM:+0200
TZOFFSETTO:+0300
TZNAME:EEST
DTSTART:20230326T010000
END:DAYLIGHT
BEGIN:STANDARD
TZOFFSETFROM:+0300
TZOFFSETTO:+0200
TZNAME:EET
DTSTART:20231029T010000
END:STANDARD
END:VTIMEZONE
BEGIN:VEVENT
DTSTART;TZID=Europe/Helsinki:20220320T080000
DTEND;TZID=Europe/Helsinki:20220320T170000
DTSTAMP:20260424T170725
CREATED:20210820T100905Z
LAST-MODIFIED:20210820T100905Z
UID:5781-1647763200-1647795600@www.evankeliset.net
SUMMARY:Salo\, Iltakirkko
DESCRIPTION:
URL:https://www.evankeliset.net/tapahtuma/salo-iltakirkko/
END:VEVENT
BEGIN:VEVENT
DTSTART;TZID=Europe/Helsinki:20220320T100000
DTEND;TZID=Europe/Helsinki:20220320T120000
DTSTAMP:20260424T170725
CREATED:20211220T085919Z
LAST-MODIFIED:20220317T080434Z
UID:6407-1647770400-1647777600@www.evankeliset.net
SUMMARY:Evijärvi\, Elyn kirkkopyhä
DESCRIPTION:
URL:https://www.evankeliset.net/tapahtuma/evijarvi-elyn-kirkkopyha-3/
END:VEVENT
END:VCALENDAR