BEGIN:VCALENDAR
VERSION:2.0
PRODID:-//Evankelinen lähetysyhdistys ELY ry - ECPv6.15.18//NONSGML v1.0//EN
CALSCALE:GREGORIAN
METHOD:PUBLISH
X-WR-CALNAME:Evankelinen lähetysyhdistys ELY ry
X-ORIGINAL-URL:https://www.evankeliset.net
X-WR-CALDESC:Tapahtumat Evankelinen lähetysyhdistys ELY ry
REFRESH-INTERVAL;VALUE=DURATION:PT1H
X-Robots-Tag:noindex
X-PUBLISHED-TTL:PT1H
BEGIN:VTIMEZONE
TZID:Europe/Helsinki
BEGIN:DAYLIGHT
TZOFFSETFROM:+0200
TZOFFSETTO:+0300
TZNAME:EEST
DTSTART:20210328T010000
END:DAYLIGHT
BEGIN:STANDARD
TZOFFSETFROM:+0300
TZOFFSETTO:+0200
TZNAME:EET
DTSTART:20211031T010000
END:STANDARD
BEGIN:DAYLIGHT
TZOFFSETFROM:+0200
TZOFFSETTO:+0300
TZNAME:EEST
DTSTART:20220327T010000
END:DAYLIGHT
BEGIN:STANDARD
TZOFFSETFROM:+0300
TZOFFSETTO:+0200
TZNAME:EET
DTSTART:20221030T010000
END:STANDARD
BEGIN:DAYLIGHT
TZOFFSETFROM:+0200
TZOFFSETTO:+0300
TZNAME:EEST
DTSTART:20230326T010000
END:DAYLIGHT
BEGIN:STANDARD
TZOFFSETFROM:+0300
TZOFFSETTO:+0200
TZNAME:EET
DTSTART:20231029T010000
END:STANDARD
END:VTIMEZONE
BEGIN:VEVENT
DTSTART;TZID=Europe/Helsinki:20220424T100000
DTEND;TZID=Europe/Helsinki:20220424T170000
DTSTAMP:20260424T221530
CREATED:20211111T111957Z
LAST-MODIFIED:20220222T140428Z
UID:6203-1650794400-1650819600@www.evankeliset.net
SUMMARY:Alajärvi\, Elyn kirkkopyhä\, Jumala on - päiväjuhla
DESCRIPTION:
URL:https://www.evankeliset.net/tapahtuma/alajarvi-elyn-kirkkopyha-3/
END:VEVENT
BEGIN:VEVENT
DTSTART;TZID=Europe/Helsinki:20220424T130000
DTEND;TZID=Europe/Helsinki:20220424T140000
DTSTAMP:20260424T221530
CREATED:20211111T112125Z
LAST-MODIFIED:20220221T133900Z
UID:6205-1650805200-1650808800@www.evankeliset.net
SUMMARY:Lehtimäki\, Elyn kirkkopyhä
DESCRIPTION:
URL:https://www.evankeliset.net/tapahtuma/lehtimaki-elyn-kirkkopyha-4/
END:VEVENT
BEGIN:VEVENT
DTSTART;TZID=Europe/Helsinki:20220424T150000
DTEND;TZID=Europe/Helsinki:20220424T170000
DTSTAMP:20260424T221530
CREATED:20211214T145535Z
LAST-MODIFIED:20220407T045105Z
UID:6373-1650812400-1650819600@www.evankeliset.net
SUMMARY:Seinäjoki\, Raamattuluento
DESCRIPTION:
URL:https://www.evankeliset.net/tapahtuma/seinajoki-raamattuluento/
END:VEVENT
END:VCALENDAR