BEGIN:VCALENDAR
VERSION:2.0
PRODID:-//Evankelinen lähetysyhdistys ELY ry - ECPv6.15.18//NONSGML v1.0//EN
CALSCALE:GREGORIAN
METHOD:PUBLISH
X-ORIGINAL-URL:https://www.evankeliset.net
X-WR-CALDESC:Tapahtumat Evankelinen lähetysyhdistys ELY ry
REFRESH-INTERVAL;VALUE=DURATION:PT1H
X-Robots-Tag:noindex
X-PUBLISHED-TTL:PT1H
BEGIN:VTIMEZONE
TZID:Europe/Helsinki
BEGIN:DAYLIGHT
TZOFFSETFROM:+0200
TZOFFSETTO:+0300
TZNAME:EEST
DTSTART:20210328T010000
END:DAYLIGHT
BEGIN:STANDARD
TZOFFSETFROM:+0300
TZOFFSETTO:+0200
TZNAME:EET
DTSTART:20211031T010000
END:STANDARD
BEGIN:DAYLIGHT
TZOFFSETFROM:+0200
TZOFFSETTO:+0300
TZNAME:EEST
DTSTART:20220327T010000
END:DAYLIGHT
BEGIN:STANDARD
TZOFFSETFROM:+0300
TZOFFSETTO:+0200
TZNAME:EET
DTSTART:20221030T010000
END:STANDARD
BEGIN:DAYLIGHT
TZOFFSETFROM:+0200
TZOFFSETTO:+0300
TZNAME:EEST
DTSTART:20230326T010000
END:DAYLIGHT
BEGIN:STANDARD
TZOFFSETFROM:+0300
TZOFFSETTO:+0200
TZNAME:EET
DTSTART:20231029T010000
END:STANDARD
END:VTIMEZONE
BEGIN:VEVENT
DTSTART;TZID=Europe/Helsinki:20220428T120000
DTEND;TZID=Europe/Helsinki:20220428T140000
DTSTAMP:20260424T221559
CREATED:20220426T052752Z
LAST-MODIFIED:20220426T052752Z
UID:6835-1651147200-1651154400@www.evankeliset.net
SUMMARY:Kokkola\, Syntymäpäiväseurat
DESCRIPTION:
URL:https://www.evankeliset.net/tapahtuma/kokkola-syntymapaivaseurat/
END:VEVENT
BEGIN:VEVENT
DTSTART;TZID=Europe/Helsinki:20220428T190000
DTEND;TZID=Europe/Helsinki:20220428T210000
DTSTAMP:20260424T221559
CREATED:20220221T134705Z
LAST-MODIFIED:20220331T150146Z
UID:6582-1651172400-1651179600@www.evankeliset.net
SUMMARY:Alavus\, Jumala on -seurakuntailta
DESCRIPTION:
URL:https://www.evankeliset.net/tapahtuma/alavus-jumala-on-seurakuntailta/
CATEGORIES:Tilaisuudet netissä
END:VEVENT
END:VCALENDAR