BEGIN:VCALENDAR
VERSION:2.0
PRODID:-//Evankelinen lähetysyhdistys ELY ry - ECPv6.15.18//NONSGML v1.0//EN
CALSCALE:GREGORIAN
METHOD:PUBLISH
X-WR-CALNAME:Evankelinen lähetysyhdistys ELY ry
X-ORIGINAL-URL:https://www.evankeliset.net
X-WR-CALDESC:Tapahtumat Evankelinen lähetysyhdistys ELY ry
REFRESH-INTERVAL;VALUE=DURATION:PT1H
X-Robots-Tag:noindex
X-PUBLISHED-TTL:PT1H
BEGIN:VTIMEZONE
TZID:Europe/Helsinki
BEGIN:DAYLIGHT
TZOFFSETFROM:+0200
TZOFFSETTO:+0300
TZNAME:EEST
DTSTART:20210328T010000
END:DAYLIGHT
BEGIN:STANDARD
TZOFFSETFROM:+0300
TZOFFSETTO:+0200
TZNAME:EET
DTSTART:20211031T010000
END:STANDARD
BEGIN:DAYLIGHT
TZOFFSETFROM:+0200
TZOFFSETTO:+0300
TZNAME:EEST
DTSTART:20220327T010000
END:DAYLIGHT
BEGIN:STANDARD
TZOFFSETFROM:+0300
TZOFFSETTO:+0200
TZNAME:EET
DTSTART:20221030T010000
END:STANDARD
BEGIN:DAYLIGHT
TZOFFSETFROM:+0200
TZOFFSETTO:+0300
TZNAME:EEST
DTSTART:20230326T010000
END:DAYLIGHT
BEGIN:STANDARD
TZOFFSETFROM:+0300
TZOFFSETTO:+0200
TZNAME:EET
DTSTART:20231029T010000
END:STANDARD
END:VTIMEZONE
BEGIN:VEVENT
DTSTART;TZID=Europe/Helsinki:20220807T100000
DTEND;TZID=Europe/Helsinki:20220807T130000
DTSTAMP:20260425T040441
CREATED:20220531T093535Z
LAST-MODIFIED:20220531T093651Z
UID:6985-1659866400-1659877200@www.evankeliset.net
SUMMARY:Savitaipale\, Elyn kirkkopyhä
DESCRIPTION:
URL:https://www.evankeliset.net/tapahtuma/savitaipale-elyn-kirkkopyha/
END:VEVENT
BEGIN:VEVENT
DTSTART;TZID=Europe/Helsinki:20220807T113000
DTEND;TZID=Europe/Helsinki:20220807T130000
DTSTAMP:20260425T040441
CREATED:20220530T074516Z
LAST-MODIFIED:20220801T063625Z
UID:6974-1659871800-1659877200@www.evankeliset.net
SUMMARY:Ilmajoki\, Syntymäpäiväseurat
DESCRIPTION:
URL:https://www.evankeliset.net/tapahtuma/ilmajoki-syntymapaivaseurat/
END:VEVENT
BEGIN:VEVENT
DTSTART;TZID=Europe/Helsinki:20220807T120000
DTEND;TZID=Europe/Helsinki:20220807T140000
DTSTAMP:20260425T040441
CREATED:20220317T082916Z
LAST-MODIFIED:20220622T042456Z
UID:6645-1659873600-1659880800@www.evankeliset.net
SUMMARY:Kannus\, Kansanlaulukirkko
DESCRIPTION:
URL:https://www.evankeliset.net/tapahtuma/kannus-kansanlaulukirkko-4/
END:VEVENT
BEGIN:VEVENT
DTSTART;TZID=Europe/Helsinki:20220807T120000
DTEND;TZID=Europe/Helsinki:20220807T150000
DTSTAMP:20260425T040441
CREATED:20220720T060707Z
LAST-MODIFIED:20220802T111210Z
UID:7034-1659873600-1659884400@www.evankeliset.net
SUMMARY:Laajasalo\, Elyn kirkkopyhä ja Mannermaiden lähettäjärenkaan tapaaminen
DESCRIPTION:
URL:https://www.evankeliset.net/tapahtuma/laajasalo-elyn-kirkkopyha-ja-mannermaiden-lahettajarenkaan-tapaaminen/
END:VEVENT
END:VCALENDAR