BEGIN:VCALENDAR
VERSION:2.0
PRODID:-//Evankelinen lähetysyhdistys ELY ry - ECPv6.15.18//NONSGML v1.0//EN
CALSCALE:GREGORIAN
METHOD:PUBLISH
X-WR-CALNAME:Evankelinen lähetysyhdistys ELY ry
X-ORIGINAL-URL:https://www.evankeliset.net
X-WR-CALDESC:Tapahtumat Evankelinen lähetysyhdistys ELY ry
REFRESH-INTERVAL;VALUE=DURATION:PT1H
X-Robots-Tag:noindex
X-PUBLISHED-TTL:PT1H
BEGIN:VTIMEZONE
TZID:Europe/Helsinki
BEGIN:DAYLIGHT
TZOFFSETFROM:+0200
TZOFFSETTO:+0300
TZNAME:EEST
DTSTART:20210328T010000
END:DAYLIGHT
BEGIN:STANDARD
TZOFFSETFROM:+0300
TZOFFSETTO:+0200
TZNAME:EET
DTSTART:20211031T010000
END:STANDARD
BEGIN:DAYLIGHT
TZOFFSETFROM:+0200
TZOFFSETTO:+0300
TZNAME:EEST
DTSTART:20220327T010000
END:DAYLIGHT
BEGIN:STANDARD
TZOFFSETFROM:+0300
TZOFFSETTO:+0200
TZNAME:EET
DTSTART:20221030T010000
END:STANDARD
BEGIN:DAYLIGHT
TZOFFSETFROM:+0200
TZOFFSETTO:+0300
TZNAME:EEST
DTSTART:20230326T010000
END:DAYLIGHT
BEGIN:STANDARD
TZOFFSETFROM:+0300
TZOFFSETTO:+0200
TZNAME:EET
DTSTART:20231029T010000
END:STANDARD
END:VTIMEZONE
BEGIN:VEVENT
DTSTART;TZID=Europe/Helsinki:20220821T100000
DTEND;TZID=Europe/Helsinki:20220821T120000
DTSTAMP:20260425T053907
CREATED:20220610T042859Z
LAST-MODIFIED:20220610T042859Z
UID:7020-1661076000-1661083200@www.evankeliset.net
SUMMARY:Sulkava\, Messu ja kirkkokahvit
DESCRIPTION:
URL:https://www.evankeliset.net/tapahtuma/sulkava-messu-ja-kirkkokahvit/
END:VEVENT
BEGIN:VEVENT
DTSTART;TZID=Europe/Helsinki:20220821T100000
DTEND;TZID=Europe/Helsinki:20220821T130000
DTSTAMP:20260425T053907
CREATED:20211111T112357Z
LAST-MODIFIED:20220511T061134Z
UID:6207-1661076000-1661086800@www.evankeliset.net
SUMMARY:Vähäkyrö\, Elyn kirkkopyhä
DESCRIPTION:
URL:https://www.evankeliset.net/tapahtuma/vahankyro-elyn-kirkkopyha/
END:VEVENT
BEGIN:VEVENT
DTSTART;TZID=Europe/Helsinki:20220821T111500
DTEND;TZID=Europe/Helsinki:20220821T130000
DTSTAMP:20260425T053907
CREATED:20220720T062744Z
LAST-MODIFIED:20220720T062744Z
UID:7040-1661080500-1661086800@www.evankeliset.net
SUMMARY:Hamina\, evankelinen juhla Simeon-salissa
DESCRIPTION:
URL:https://www.evankeliset.net/tapahtuma/hamina-evankelinen-juhla-simeon-salissa/
END:VEVENT
END:VCALENDAR