BEGIN:VCALENDAR
VERSION:2.0
PRODID:-//Evankelinen lähetysyhdistys ELY ry - ECPv6.15.18//NONSGML v1.0//EN
CALSCALE:GREGORIAN
METHOD:PUBLISH
X-ORIGINAL-URL:https://www.evankeliset.net
X-WR-CALDESC:Tapahtumat Evankelinen lähetysyhdistys ELY ry
REFRESH-INTERVAL;VALUE=DURATION:PT1H
X-Robots-Tag:noindex
X-PUBLISHED-TTL:PT1H
BEGIN:VTIMEZONE
TZID:Europe/Helsinki
BEGIN:DAYLIGHT
TZOFFSETFROM:+0200
TZOFFSETTO:+0300
TZNAME:EEST
DTSTART:20210328T010000
END:DAYLIGHT
BEGIN:STANDARD
TZOFFSETFROM:+0300
TZOFFSETTO:+0200
TZNAME:EET
DTSTART:20211031T010000
END:STANDARD
BEGIN:DAYLIGHT
TZOFFSETFROM:+0200
TZOFFSETTO:+0300
TZNAME:EEST
DTSTART:20220327T010000
END:DAYLIGHT
BEGIN:STANDARD
TZOFFSETFROM:+0300
TZOFFSETTO:+0200
TZNAME:EET
DTSTART:20221030T010000
END:STANDARD
BEGIN:DAYLIGHT
TZOFFSETFROM:+0200
TZOFFSETTO:+0300
TZNAME:EEST
DTSTART:20230326T010000
END:DAYLIGHT
BEGIN:STANDARD
TZOFFSETFROM:+0300
TZOFFSETTO:+0200
TZNAME:EET
DTSTART:20231029T010000
END:STANDARD
END:VTIMEZONE
BEGIN:VEVENT
DTSTART;TZID=Europe/Helsinki:20220919T140000
DTEND;TZID=Europe/Helsinki:20220919T160000
DTSTAMP:20260425T023424
CREATED:20220728T060138Z
LAST-MODIFIED:20220728T060138Z
UID:7063-1663596000-1663603200@www.evankeliset.net
SUMMARY:Kouvola\, Evankelinen lähetyspiiri
DESCRIPTION:
URL:https://www.evankeliset.net/tapahtuma/kouvola-evankelinen-lahetyspiiri-3/
END:VEVENT
BEGIN:VEVENT
DTSTART;TZID=Europe/Helsinki:20220919T180000
DTEND;TZID=Europe/Helsinki:20220919T200000
DTSTAMP:20260425T023424
CREATED:20220512T063900Z
LAST-MODIFIED:20220512T064021Z
UID:6897-1663610400-1663617600@www.evankeliset.net
SUMMARY:Kurikka\, lähetysilta
DESCRIPTION:
URL:https://www.evankeliset.net/tapahtuma/kurikka-lahetysilta/
END:VEVENT
END:VCALENDAR