BEGIN:VCALENDAR
VERSION:2.0
PRODID:-//Evankelinen lähetysyhdistys ELY ry - ECPv6.15.18//NONSGML v1.0//EN
CALSCALE:GREGORIAN
METHOD:PUBLISH
X-ORIGINAL-URL:https://www.evankeliset.net
X-WR-CALDESC:Tapahtumat Evankelinen lähetysyhdistys ELY ry
REFRESH-INTERVAL;VALUE=DURATION:PT1H
X-Robots-Tag:noindex
X-PUBLISHED-TTL:PT1H
BEGIN:VTIMEZONE
TZID:Europe/Helsinki
BEGIN:DAYLIGHT
TZOFFSETFROM:+0200
TZOFFSETTO:+0300
TZNAME:EEST
DTSTART:20210328T010000
END:DAYLIGHT
BEGIN:STANDARD
TZOFFSETFROM:+0300
TZOFFSETTO:+0200
TZNAME:EET
DTSTART:20211031T010000
END:STANDARD
BEGIN:DAYLIGHT
TZOFFSETFROM:+0200
TZOFFSETTO:+0300
TZNAME:EEST
DTSTART:20220327T010000
END:DAYLIGHT
BEGIN:STANDARD
TZOFFSETFROM:+0300
TZOFFSETTO:+0200
TZNAME:EET
DTSTART:20221030T010000
END:STANDARD
BEGIN:DAYLIGHT
TZOFFSETFROM:+0200
TZOFFSETTO:+0300
TZNAME:EEST
DTSTART:20230326T010000
END:DAYLIGHT
BEGIN:STANDARD
TZOFFSETFROM:+0300
TZOFFSETTO:+0200
TZNAME:EET
DTSTART:20231029T010000
END:STANDARD
END:VTIMEZONE
BEGIN:VEVENT
DTSTART;TZID=Europe/Helsinki:20221005T080000
DTEND;TZID=Europe/Helsinki:20221005T170000
DTSTAMP:20260425T010500
CREATED:20220720T065517Z
LAST-MODIFIED:20220720T065517Z
UID:7050-1664956800-1664989200@www.evankeliset.net
SUMMARY:Hamina\, Inkeri-ilta
DESCRIPTION:
URL:https://www.evankeliset.net/tapahtuma/hamina-inkeri-ilta-2/
END:VEVENT
BEGIN:VEVENT
DTSTART;TZID=Europe/Helsinki:20221005T090000
DTEND;TZID=Europe/Helsinki:20221005T210000
DTSTAMP:20260425T010500
CREATED:20220916T080408Z
LAST-MODIFIED:20220916T080408Z
UID:7212-1664960400-1665003600@www.evankeliset.net
SUMMARY:Retki Vaasan seudulle
DESCRIPTION:
URL:https://www.evankeliset.net/tapahtuma/retki-vaasan-seudulle/
END:VEVENT
BEGIN:VEVENT
DTSTART;TZID=Europe/Helsinki:20221005T100000
DTEND;TZID=Europe/Helsinki:20221005T140000
DTSTAMP:20260425T010500
CREATED:20220831T051508Z
LAST-MODIFIED:20220831T051508Z
UID:7146-1664964000-1664978400@www.evankeliset.net
SUMMARY:Kokkola\, Lähetyssoppi
DESCRIPTION:
URL:https://www.evankeliset.net/tapahtuma/kokkola-lahetyssoppi-39/
END:VEVENT
BEGIN:VEVENT
DTSTART;TZID=Europe/Helsinki:20221005T180000
DTEND;TZID=Europe/Helsinki:20221005T200000
DTSTAMP:20260425T010500
CREATED:20220916T080716Z
LAST-MODIFIED:20220916T080716Z
UID:7214-1664992800-1665000000@www.evankeliset.net
SUMMARY:Laihia\, Siionin kanteleen lauluseurat
DESCRIPTION:
URL:https://www.evankeliset.net/tapahtuma/laihia-siionin-kanteleen-lauluseurat/
END:VEVENT
END:VCALENDAR