BEGIN:VCALENDAR
VERSION:2.0
PRODID:-//Evankelinen lähetysyhdistys ELY ry - ECPv6.15.18//NONSGML v1.0//EN
CALSCALE:GREGORIAN
METHOD:PUBLISH
X-ORIGINAL-URL:https://www.evankeliset.net
X-WR-CALDESC:Tapahtumat Evankelinen lähetysyhdistys ELY ry
REFRESH-INTERVAL;VALUE=DURATION:PT1H
X-Robots-Tag:noindex
X-PUBLISHED-TTL:PT1H
BEGIN:VTIMEZONE
TZID:Europe/Helsinki
BEGIN:DAYLIGHT
TZOFFSETFROM:+0200
TZOFFSETTO:+0300
TZNAME:EEST
DTSTART:20210328T010000
END:DAYLIGHT
BEGIN:STANDARD
TZOFFSETFROM:+0300
TZOFFSETTO:+0200
TZNAME:EET
DTSTART:20211031T010000
END:STANDARD
BEGIN:DAYLIGHT
TZOFFSETFROM:+0200
TZOFFSETTO:+0300
TZNAME:EEST
DTSTART:20220327T010000
END:DAYLIGHT
BEGIN:STANDARD
TZOFFSETFROM:+0300
TZOFFSETTO:+0200
TZNAME:EET
DTSTART:20221030T010000
END:STANDARD
BEGIN:DAYLIGHT
TZOFFSETFROM:+0200
TZOFFSETTO:+0300
TZNAME:EEST
DTSTART:20230326T010000
END:DAYLIGHT
BEGIN:STANDARD
TZOFFSETFROM:+0300
TZOFFSETTO:+0200
TZNAME:EET
DTSTART:20231029T010000
END:STANDARD
END:VTIMEZONE
BEGIN:VEVENT
DTSTART;TZID=Europe/Helsinki:20221009T100000
DTEND;TZID=Europe/Helsinki:20221009T120000
DTSTAMP:20260424T013723
CREATED:20220317T083451Z
LAST-MODIFIED:20220317T083451Z
UID:6650-1665309600-1665316800@www.evankeliset.net
SUMMARY:Ähtäri\, Elyn kirkkopyhä
DESCRIPTION:
URL:https://www.evankeliset.net/tapahtuma/ahtari-elyn-kirkkopyha-6/
END:VEVENT
BEGIN:VEVENT
DTSTART;TZID=Europe/Helsinki:20221009T100000
DTEND;TZID=Europe/Helsinki:20221009T130000
DTSTAMP:20260424T013723
CREATED:20211116T130938Z
LAST-MODIFIED:20220512T081025Z
UID:6263-1665309600-1665320400@www.evankeliset.net
SUMMARY:Alahärmä\, Elyn kirkkopyhä
DESCRIPTION:
URL:https://www.evankeliset.net/tapahtuma/alaharma-elyn-kirkkopyha-2/
END:VEVENT
BEGIN:VEVENT
DTSTART;TZID=Europe/Helsinki:20221009T130000
DTEND;TZID=Europe/Helsinki:20221009T150000
DTSTAMP:20260424T013723
CREATED:20220607T073814Z
LAST-MODIFIED:20220607T073814Z
UID:7006-1665320400-1665327600@www.evankeliset.net
SUMMARY:Kannus\, Jumala on -tilaisuus
DESCRIPTION:
URL:https://www.evankeliset.net/tapahtuma/kannus-jumala-on-tilaisuus/
END:VEVENT
BEGIN:VEVENT
DTSTART;TZID=Europe/Helsinki:20221009T150000
DTEND;TZID=Europe/Helsinki:20221009T170000
DTSTAMP:20260424T013723
CREATED:20220829T095455Z
LAST-MODIFIED:20220908T042653Z
UID:7142-1665327600-1665334800@www.evankeliset.net
SUMMARY:Hämeenlinna\, Siionin kannel -seurat
DESCRIPTION:
URL:https://www.evankeliset.net/tapahtuma/hameenlinna-siionin-kannel-seurat-2/
END:VEVENT
BEGIN:VEVENT
DTSTART;TZID=Europe/Helsinki:20221009T170000
DTEND;TZID=Europe/Helsinki:20221009T190000
DTSTAMP:20260424T013723
CREATED:20220914T060225Z
LAST-MODIFIED:20220914T062419Z
UID:7183-1665334800-1665342000@www.evankeliset.net
SUMMARY:Hyllykallio\, Siionin kanteleen lauluilta
DESCRIPTION:
URL:https://www.evankeliset.net/tapahtuma/siionin-kanteleen-lauluilta/
END:VEVENT
END:VCALENDAR