BEGIN:VCALENDAR
VERSION:2.0
PRODID:-//Evankelinen lähetysyhdistys ELY ry - ECPv6.15.18//NONSGML v1.0//EN
CALSCALE:GREGORIAN
METHOD:PUBLISH
X-WR-CALNAME:Evankelinen lähetysyhdistys ELY ry
X-ORIGINAL-URL:https://www.evankeliset.net
X-WR-CALDESC:Tapahtumat Evankelinen lähetysyhdistys ELY ry
REFRESH-INTERVAL;VALUE=DURATION:PT1H
X-Robots-Tag:noindex
X-PUBLISHED-TTL:PT1H
BEGIN:VTIMEZONE
TZID:Europe/Helsinki
BEGIN:DAYLIGHT
TZOFFSETFROM:+0200
TZOFFSETTO:+0300
TZNAME:EEST
DTSTART:20220327T010000
END:DAYLIGHT
BEGIN:STANDARD
TZOFFSETFROM:+0300
TZOFFSETTO:+0200
TZNAME:EET
DTSTART:20221030T010000
END:STANDARD
BEGIN:DAYLIGHT
TZOFFSETFROM:+0200
TZOFFSETTO:+0300
TZNAME:EEST
DTSTART:20230326T010000
END:DAYLIGHT
BEGIN:STANDARD
TZOFFSETFROM:+0300
TZOFFSETTO:+0200
TZNAME:EET
DTSTART:20231029T010000
END:STANDARD
BEGIN:DAYLIGHT
TZOFFSETFROM:+0200
TZOFFSETTO:+0300
TZNAME:EEST
DTSTART:20240331T010000
END:DAYLIGHT
BEGIN:STANDARD
TZOFFSETFROM:+0300
TZOFFSETTO:+0200
TZNAME:EET
DTSTART:20241027T010000
END:STANDARD
END:VTIMEZONE
BEGIN:VEVENT
DTSTART;TZID=Europe/Helsinki:20230216T080000
DTEND;TZID=Europe/Helsinki:20230216T170000
DTSTAMP:20260424T184810
CREATED:20230113T081501Z
LAST-MODIFIED:20230113T081501Z
UID:7616-1676534400-1676566800@www.evankeliset.net
SUMMARY:Kokkola\, Laulu-ja hartaushetki
DESCRIPTION:
URL:https://www.evankeliset.net/tapahtuma/kokkola-laulu-ja-hartaushetki/
END:VEVENT
BEGIN:VEVENT
DTSTART;TZID=Europe/Helsinki:20230216T173000
DTEND;TZID=Europe/Helsinki:20230216T190000
DTSTAMP:20260424T184810
CREATED:20221109T124352Z
LAST-MODIFIED:20230123T123437Z
UID:7319-1676568600-1676574000@www.evankeliset.net
SUMMARY:Tampere\, Kahvia\, Sanaa ja Siionin kannelta
DESCRIPTION:
URL:https://www.evankeliset.net/tapahtuma/tampere-kahviseurat/
END:VEVENT
END:VCALENDAR