BEGIN:VCALENDAR
VERSION:2.0
PRODID:-//Evankelinen lähetysyhdistys ELY ry - ECPv6.15.18//NONSGML v1.0//EN
CALSCALE:GREGORIAN
METHOD:PUBLISH
X-ORIGINAL-URL:https://www.evankeliset.net
X-WR-CALDESC:Tapahtumat Evankelinen lähetysyhdistys ELY ry
REFRESH-INTERVAL;VALUE=DURATION:PT1H
X-Robots-Tag:noindex
X-PUBLISHED-TTL:PT1H
BEGIN:VTIMEZONE
TZID:Europe/Helsinki
BEGIN:DAYLIGHT
TZOFFSETFROM:+0200
TZOFFSETTO:+0300
TZNAME:EEST
DTSTART:20220327T010000
END:DAYLIGHT
BEGIN:STANDARD
TZOFFSETFROM:+0300
TZOFFSETTO:+0200
TZNAME:EET
DTSTART:20221030T010000
END:STANDARD
BEGIN:DAYLIGHT
TZOFFSETFROM:+0200
TZOFFSETTO:+0300
TZNAME:EEST
DTSTART:20230326T010000
END:DAYLIGHT
BEGIN:STANDARD
TZOFFSETFROM:+0300
TZOFFSETTO:+0200
TZNAME:EET
DTSTART:20231029T010000
END:STANDARD
BEGIN:DAYLIGHT
TZOFFSETFROM:+0200
TZOFFSETTO:+0300
TZNAME:EEST
DTSTART:20240331T010000
END:DAYLIGHT
BEGIN:STANDARD
TZOFFSETFROM:+0300
TZOFFSETTO:+0200
TZNAME:EET
DTSTART:20241027T010000
END:STANDARD
END:VTIMEZONE
BEGIN:VEVENT
DTSTART;TZID=Europe/Helsinki:20230308T123000
DTEND;TZID=Europe/Helsinki:20230308T140000
DTSTAMP:20260424T172454
CREATED:20230113T094642Z
LAST-MODIFIED:20230113T094642Z
UID:7626-1678278600-1678284000@www.evankeliset.net
SUMMARY:Jalasjärvi\, Siionin kannel seurat
DESCRIPTION:
URL:https://www.evankeliset.net/tapahtuma/jalasjarvi-siionin-kannel-seurat-10/
END:VEVENT
BEGIN:VEVENT
DTSTART;TZID=Europe/Helsinki:20230308T133000
DTEND;TZID=Europe/Helsinki:20230308T150000
DTSTAMP:20260424T172454
CREATED:20221125T104434Z
LAST-MODIFIED:20221125T104434Z
UID:7431-1678282200-1678287600@www.evankeliset.net
SUMMARY:Kokkola\, Päiväkahvitilaisuus
DESCRIPTION:
URL:https://www.evankeliset.net/tapahtuma/kokkola-paivakahvitilaisuus-13/
END:VEVENT
BEGIN:VEVENT
DTSTART;TZID=Europe/Helsinki:20230308T180000
DTEND;TZID=Europe/Helsinki:20230308T193000
DTSTAMP:20260424T172454
CREATED:20221129T123601Z
LAST-MODIFIED:20221129T123601Z
UID:7462-1678298400-1678303800@www.evankeliset.net
SUMMARY:Ilmajoki\, Lähetyksen ilta
DESCRIPTION:
URL:https://www.evankeliset.net/tapahtuma/ilmajoki-lahetyksen-ilta/
END:VEVENT
END:VCALENDAR