BEGIN:VCALENDAR
VERSION:2.0
PRODID:-//Evankelinen lähetysyhdistys ELY ry - ECPv6.15.18//NONSGML v1.0//EN
CALSCALE:GREGORIAN
METHOD:PUBLISH
X-WR-CALNAME:Evankelinen lähetysyhdistys ELY ry
X-ORIGINAL-URL:https://www.evankeliset.net
X-WR-CALDESC:Tapahtumat Evankelinen lähetysyhdistys ELY ry
REFRESH-INTERVAL;VALUE=DURATION:PT1H
X-Robots-Tag:noindex
X-PUBLISHED-TTL:PT1H
BEGIN:VTIMEZONE
TZID:Europe/Helsinki
BEGIN:DAYLIGHT
TZOFFSETFROM:+0200
TZOFFSETTO:+0300
TZNAME:EEST
DTSTART:20220327T010000
END:DAYLIGHT
BEGIN:STANDARD
TZOFFSETFROM:+0300
TZOFFSETTO:+0200
TZNAME:EET
DTSTART:20221030T010000
END:STANDARD
BEGIN:DAYLIGHT
TZOFFSETFROM:+0200
TZOFFSETTO:+0300
TZNAME:EEST
DTSTART:20230326T010000
END:DAYLIGHT
BEGIN:STANDARD
TZOFFSETFROM:+0300
TZOFFSETTO:+0200
TZNAME:EET
DTSTART:20231029T010000
END:STANDARD
BEGIN:DAYLIGHT
TZOFFSETFROM:+0200
TZOFFSETTO:+0300
TZNAME:EEST
DTSTART:20240331T010000
END:DAYLIGHT
BEGIN:STANDARD
TZOFFSETFROM:+0300
TZOFFSETTO:+0200
TZNAME:EET
DTSTART:20241027T010000
END:STANDARD
END:VTIMEZONE
BEGIN:VEVENT
DTSTART;TZID=Europe/Helsinki:20230309T113000
DTEND;TZID=Europe/Helsinki:20230309T130000
DTSTAMP:20260424T172441
CREATED:20230109T072919Z
LAST-MODIFIED:20230109T072919Z
UID:7543-1678361400-1678366800@www.evankeliset.net
SUMMARY:Salo\, Pastanttipuuroa
DESCRIPTION:
URL:https://www.evankeliset.net/tapahtuma/salo-pastanttipuuroa/
END:VEVENT
BEGIN:VEVENT
DTSTART;TZID=Europe/Helsinki:20230309T140000
DTEND;TZID=Europe/Helsinki:20230309T153000
DTSTAMP:20260424T172441
CREATED:20221122T095439Z
LAST-MODIFIED:20221122T095439Z
UID:7404-1678370400-1678375800@www.evankeliset.net
SUMMARY:Kauhajoki\, Siionin kannel -seurat
DESCRIPTION:
URL:https://www.evankeliset.net/tapahtuma/kauhajoki-siionin-kannel-seurat-20/
END:VEVENT
BEGIN:VEVENT
DTSTART;TZID=Europe/Helsinki:20230309T180000
DTEND;TZID=Europe/Helsinki:20230309T200000
DTSTAMP:20260424T172441
CREATED:20221216T111352Z
LAST-MODIFIED:20230306T101010Z
UID:7496-1678384800-1678392000@www.evankeliset.net
SUMMARY:Alajärvi\, Lähetysseurat
DESCRIPTION:
URL:https://www.evankeliset.net/tapahtuma/alajarvi-lahetysseurat/
END:VEVENT
END:VCALENDAR