BEGIN:VCALENDAR
VERSION:2.0
PRODID:-//Evankelinen lähetysyhdistys ELY ry - ECPv6.15.18//NONSGML v1.0//EN
CALSCALE:GREGORIAN
METHOD:PUBLISH
X-WR-CALNAME:Evankelinen lähetysyhdistys ELY ry
X-ORIGINAL-URL:https://www.evankeliset.net
X-WR-CALDESC:Tapahtumat Evankelinen lähetysyhdistys ELY ry
REFRESH-INTERVAL;VALUE=DURATION:PT1H
X-Robots-Tag:noindex
X-PUBLISHED-TTL:PT1H
BEGIN:VTIMEZONE
TZID:Europe/Helsinki
BEGIN:DAYLIGHT
TZOFFSETFROM:+0200
TZOFFSETTO:+0300
TZNAME:EEST
DTSTART:20220327T010000
END:DAYLIGHT
BEGIN:STANDARD
TZOFFSETFROM:+0300
TZOFFSETTO:+0200
TZNAME:EET
DTSTART:20221030T010000
END:STANDARD
BEGIN:DAYLIGHT
TZOFFSETFROM:+0200
TZOFFSETTO:+0300
TZNAME:EEST
DTSTART:20230326T010000
END:DAYLIGHT
BEGIN:STANDARD
TZOFFSETFROM:+0300
TZOFFSETTO:+0200
TZNAME:EET
DTSTART:20231029T010000
END:STANDARD
BEGIN:DAYLIGHT
TZOFFSETFROM:+0200
TZOFFSETTO:+0300
TZNAME:EEST
DTSTART:20240331T010000
END:DAYLIGHT
BEGIN:STANDARD
TZOFFSETFROM:+0300
TZOFFSETTO:+0200
TZNAME:EET
DTSTART:20241027T010000
END:STANDARD
END:VTIMEZONE
BEGIN:VEVENT
DTSTART;TZID=Europe/Helsinki:20230412T133000
DTEND;TZID=Europe/Helsinki:20230412T150000
DTSTAMP:20260424T160052
CREATED:20221125T104607Z
LAST-MODIFIED:20221125T104607Z
UID:7433-1681306200-1681311600@www.evankeliset.net
SUMMARY:Kokkola\, Päiväkahvitilaisuus
DESCRIPTION:
URL:https://www.evankeliset.net/tapahtuma/kokkola-paivakahvitilaisuus-14/
END:VEVENT
BEGIN:VEVENT
DTSTART;TZID=Europe/Helsinki:20230412T180000
DTEND;TZID=Europe/Helsinki:20230412T200000
DTSTAMP:20260424T160052
CREATED:20230320T083920Z
LAST-MODIFIED:20230320T083920Z
UID:7883-1681322400-1681329600@www.evankeliset.net
SUMMARY:Ilmajoki\, Runo-/musiikkimatinea
DESCRIPTION:
URL:https://www.evankeliset.net/tapahtuma/ilmajoki-runo-musiikkimatinea/
END:VEVENT
END:VCALENDAR